BEGIN:VCALENDAR
VERSION:2.0
PRODID:-//West Virginia Gear Up - ECPv6.15.11//NONSGML v1.0//EN
CALSCALE:GREGORIAN
METHOD:PUBLISH
X-WR-CALNAME:West Virginia Gear Up
X-ORIGINAL-URL:https://www.wvgearup.org
X-WR-CALDESC:Events for West Virginia Gear Up
REFRESH-INTERVAL;VALUE=DURATION:PT1H
X-Robots-Tag:noindex
X-PUBLISHED-TTL:PT1H
BEGIN:VTIMEZONE
TZID:America/New_York
BEGIN:DAYLIGHT
TZOFFSETFROM:-0500
TZOFFSETTO:-0400
TZNAME:EDT
DTSTART:20220313T070000
END:DAYLIGHT
BEGIN:STANDARD
TZOFFSETFROM:-0400
TZOFFSETTO:-0500
TZNAME:EST
DTSTART:20221106T060000
END:STANDARD
BEGIN:DAYLIGHT
TZOFFSETFROM:-0500
TZOFFSETTO:-0400
TZNAME:EDT
DTSTART:20230312T070000
END:DAYLIGHT
BEGIN:STANDARD
TZOFFSETFROM:-0400
TZOFFSETTO:-0500
TZNAME:EST
DTSTART:20231105T060000
END:STANDARD
BEGIN:DAYLIGHT
TZOFFSETFROM:-0500
TZOFFSETTO:-0400
TZNAME:EDT
DTSTART:20240310T070000
END:DAYLIGHT
BEGIN:STANDARD
TZOFFSETFROM:-0400
TZOFFSETTO:-0500
TZNAME:EST
DTSTART:20241103T060000
END:STANDARD
END:VTIMEZONE
BEGIN:VEVENT
DTSTART;TZID=America/New_York:20230810T080000
DTEND;TZID=America/New_York:20230810T160000
DTSTAMP:20260420T095851
CREATED:20230810T195227Z
LAST-MODIFIED:20230810T195227Z
UID:4238-1691654400-1691683200@www.wvgearup.org
SUMMARY:Freshman Gear-Up for High School
DESCRIPTION:Chapmanville Regional High School
URL:https://www.wvgearup.org/event/freshman-gear-up-for-high-school/
END:VEVENT
BEGIN:VEVENT
DTSTART;TZID=America/New_York:20230817T173000
DTEND;TZID=America/New_York:20230817T193000
DTSTAMP:20260420T095851
CREATED:20230818T195117Z
LAST-MODIFIED:20230818T195117Z
UID:4249-1692293400-1692300600@www.wvgearup.org
SUMMARY:SVHS Back to School Bash
DESCRIPTION:Spring Valley High School
URL:https://www.wvgearup.org/event/svhs-back-to-school-bash-2/
END:VEVENT
BEGIN:VEVENT
DTSTART;TZID=America/New_York:20230822T130000
DTEND;TZID=America/New_York:20230822T133000
DTSTAMP:20260420T095851
CREATED:20230818T194918Z
LAST-MODIFIED:20230818T194918Z
UID:4245-1692709200-1692711000@www.wvgearup.org
SUMMARY:Faculty Senate Presentation
DESCRIPTION:Buffalo Middle School
URL:https://www.wvgearup.org/event/faculty-senate-presentation-20/
END:VEVENT
BEGIN:VEVENT
DTSTART;TZID=America/New_York:20230822T150000
DTEND;TZID=America/New_York:20230822T180000
DTSTAMP:20260420T095851
CREATED:20230818T195203Z
LAST-MODIFIED:20230818T195203Z
UID:4251-1692716400-1692727200@www.wvgearup.org
SUMMARY:Open House for Freshman and Seniors
DESCRIPTION:Wayne High School
URL:https://www.wvgearup.org/event/open-house-for-freshman-and-seniors/
END:VEVENT
BEGIN:VEVENT
DTSTART;TZID=America/New_York:20230822T170000
DTEND;TZID=America/New_York:20230822T200000
DTSTAMP:20260420T095851
CREATED:20230810T195441Z
LAST-MODIFIED:20230810T195441Z
UID:4240-1692723600-1692734400@www.wvgearup.org
SUMMARY:WV GEAR UP Full School Launch Event
DESCRIPTION:Logan Senior High School
URL:https://www.wvgearup.org/event/wv-gear-up-full-school-launch-event/
END:VEVENT
BEGIN:VEVENT
DTSTART;TZID=America/New_York:20230823T083000
DTEND;TZID=America/New_York:20230823T084500
DTSTAMP:20260420T095851
CREATED:20230818T195035Z
LAST-MODIFIED:20230818T195035Z
UID:4247-1692779400-1692780300@www.wvgearup.org
SUMMARY:GEAR UP Faculty Senate Presentation at Gilbert PK-8
DESCRIPTION:Gilbert PK-8
URL:https://www.wvgearup.org/event/gear-up-faculty-senate-presentation-at-gilbert-pk-8/
END:VEVENT
BEGIN:VEVENT
DTSTART;TZID=America/New_York:20230823T163000
DTEND;TZID=America/New_York:20230823T183000
DTSTAMP:20260420T095851
CREATED:20230821T200218Z
LAST-MODIFIED:20230821T200218Z
UID:4259-1692808200-1692815400@www.wvgearup.org
SUMMARY:Back to School Bash- Meet Your New GEAR UP Cooridnator
DESCRIPTION:Gilbert PK-8
URL:https://www.wvgearup.org/event/back-to-school-bash-meet-your-new-gear-up-cooridnator/
END:VEVENT
BEGIN:VEVENT
DTSTART;TZID=America/New_York:20230824T124500
DTEND;TZID=America/New_York:20230824T141500
DTSTAMP:20260420T095851
CREATED:20230818T195337Z
LAST-MODIFIED:20230818T195337Z
UID:4255-1692881100-1692886500@www.wvgearup.org
SUMMARY:Welcome to Gear Up Day
DESCRIPTION:Buffalo Middle School
URL:https://www.wvgearup.org/event/welcome-to-gear-up-day-2/
END:VEVENT
BEGIN:VEVENT
DTSTART;TZID=America/New_York:20230824T160000
DTEND;TZID=America/New_York:20230824T180000
DTSTAMP:20260420T095851
CREATED:20230920T194623Z
LAST-MODIFIED:20230920T194623Z
UID:4340-1692892800-1692900000@www.wvgearup.org
SUMMARY:GEAR UP Launch Event
DESCRIPTION:Burch PK-8
URL:https://www.wvgearup.org/event/gear-up-launch-event-3/
END:VEVENT
END:VCALENDAR