BEGIN:VCALENDAR
VERSION:2.0
PRODID:-//West Virginia Gear Up - ECPv6.15.11//NONSGML v1.0//EN
CALSCALE:GREGORIAN
METHOD:PUBLISH
X-WR-CALNAME:West Virginia Gear Up
X-ORIGINAL-URL:https://www.wvgearup.org
X-WR-CALDESC:Events for West Virginia Gear Up
REFRESH-INTERVAL;VALUE=DURATION:PT1H
X-Robots-Tag:noindex
X-PUBLISHED-TTL:PT1H
BEGIN:VTIMEZONE
TZID:America/New_York
BEGIN:DAYLIGHT
TZOFFSETFROM:-0500
TZOFFSETTO:-0400
TZNAME:EDT
DTSTART:20220313T070000
END:DAYLIGHT
BEGIN:STANDARD
TZOFFSETFROM:-0400
TZOFFSETTO:-0500
TZNAME:EST
DTSTART:20221106T060000
END:STANDARD
BEGIN:DAYLIGHT
TZOFFSETFROM:-0500
TZOFFSETTO:-0400
TZNAME:EDT
DTSTART:20230312T070000
END:DAYLIGHT
BEGIN:STANDARD
TZOFFSETFROM:-0400
TZOFFSETTO:-0500
TZNAME:EST
DTSTART:20231105T060000
END:STANDARD
BEGIN:DAYLIGHT
TZOFFSETFROM:-0500
TZOFFSETTO:-0400
TZNAME:EDT
DTSTART:20240310T070000
END:DAYLIGHT
BEGIN:STANDARD
TZOFFSETFROM:-0400
TZOFFSETTO:-0500
TZNAME:EST
DTSTART:20241103T060000
END:STANDARD
END:VTIMEZONE
BEGIN:VEVENT
DTSTART;TZID=America/New_York:20230601T090000
DTEND;TZID=America/New_York:20230601T110000
DTSTAMP:20260420T125235
CREATED:20230309T161935Z
LAST-MODIFIED:20230309T161935Z
UID:4077-1685610000-1685617200@www.wvgearup.org
SUMMARY:8th Grade Promotion to High School
DESCRIPTION:Buffalo Middle School
URL:https://www.wvgearup.org/event/8th-grade-promotion-to-high-school/
END:VEVENT
BEGIN:VEVENT
DTSTART;TZID=America/New_York:20230601T123000
DTEND;TZID=America/New_York:20230601T143000
DTSTAMP:20260420T125235
CREATED:20230524T172934Z
LAST-MODIFIED:20230524T172934Z
UID:4219-1685622600-1685629800@www.wvgearup.org
SUMMARY:High School Transition Day
DESCRIPTION:Madison Middle School
URL:https://www.wvgearup.org/event/high-school-transition-day/
END:VEVENT
BEGIN:VEVENT
DTSTART;TZID=America/New_York:20230601T170000
DTEND;TZID=America/New_York:20230601T193000
DTSTAMP:20260420T125235
CREATED:20230524T172832Z
LAST-MODIFIED:20230524T172832Z
UID:4217-1685638800-1685647800@www.wvgearup.org
SUMMARY:8th Grade Night Promise to Graduate
DESCRIPTION:Harts PK-8
URL:https://www.wvgearup.org/event/8th-grade-night-promise-to-graduate/
END:VEVENT
BEGIN:VEVENT
DTSTART;VALUE=DATE:20230610
DTEND;VALUE=DATE:20230611
DTSTAMP:20260420T125235
CREATED:20221107T151438Z
LAST-MODIFIED:20221107T151438Z
UID:3679-1686355200-1686441599@www.wvgearup.org
SUMMARY:June ACT National Test Date
DESCRIPTION:
URL:https://www.wvgearup.org/event/june-act-national-test-date/
END:VEVENT
BEGIN:VEVENT
DTSTART;TZID=America/New_York:20230621T140000
DTEND;TZID=America/New_York:20230625T140000
DTSTAMP:20260420T125235
CREATED:20230623T180845Z
LAST-MODIFIED:20230623T180845Z
UID:4226-1687356000-1687701600@www.wvgearup.org
SUMMARY:GEAR UP U - Marshall University
DESCRIPTION:
URL:https://www.wvgearup.org/event/gear-up-u-marshall-university/
END:VEVENT
END:VCALENDAR