BEGIN:VCALENDAR
VERSION:2.0
PRODID:-//West Virginia Gear Up - ECPv6.15.11//NONSGML v1.0//EN
CALSCALE:GREGORIAN
METHOD:PUBLISH
X-ORIGINAL-URL:https://www.wvgearup.org
X-WR-CALDESC:Events for West Virginia Gear Up
REFRESH-INTERVAL;VALUE=DURATION:PT1H
X-Robots-Tag:noindex
X-PUBLISHED-TTL:PT1H
BEGIN:VTIMEZONE
TZID:America/New_York
BEGIN:DAYLIGHT
TZOFFSETFROM:-0500
TZOFFSETTO:-0400
TZNAME:EDT
DTSTART:20250309T070000
END:DAYLIGHT
BEGIN:STANDARD
TZOFFSETFROM:-0400
TZOFFSETTO:-0500
TZNAME:EST
DTSTART:20251102T060000
END:STANDARD
BEGIN:DAYLIGHT
TZOFFSETFROM:-0500
TZOFFSETTO:-0400
TZNAME:EDT
DTSTART:20260308T070000
END:DAYLIGHT
BEGIN:STANDARD
TZOFFSETFROM:-0400
TZOFFSETTO:-0500
TZNAME:EST
DTSTART:20261101T060000
END:STANDARD
BEGIN:DAYLIGHT
TZOFFSETFROM:-0500
TZOFFSETTO:-0400
TZNAME:EDT
DTSTART:20270314T070000
END:DAYLIGHT
BEGIN:STANDARD
TZOFFSETFROM:-0400
TZOFFSETTO:-0500
TZNAME:EST
DTSTART:20271107T060000
END:STANDARD
END:VTIMEZONE
BEGIN:VEVENT
DTSTART;TZID=America/New_York:20260513T123000
DTEND;TZID=America/New_York:20260513T133000
DTSTAMP:20260422T185800
CREATED:20260330T195712Z
LAST-MODIFIED:20260330T195712Z
UID:5930-1778675400-1778679000@www.wvgearup.org
SUMMARY:College Decision Day
DESCRIPTION:Sherman High School
URL:https://www.wvgearup.org/event/college-decision-day-27/
END:VEVENT
BEGIN:VEVENT
DTSTART;TZID=America/New_York:20260514T123000
DTEND;TZID=America/New_York:20260514T143000
DTSTAMP:20260422T185800
CREATED:20260422T124258Z
LAST-MODIFIED:20260422T124258Z
UID:5949-1778761800-1778769000@www.wvgearup.org
SUMMARY:College Decision Day
DESCRIPTION:Mingo Central Comprehensive High School
URL:https://www.wvgearup.org/event/college-decision-day-30/
END:VEVENT
BEGIN:VEVENT
DTSTART;TZID=America/New_York:20260515T093000
DTEND;TZID=America/New_York:20260515T103000
DTSTAMP:20260422T185800
CREATED:20260422T123519Z
LAST-MODIFIED:20260422T123519Z
UID:5945-1778837400-1778841000@www.wvgearup.org
SUMMARY:Transition and College Readiness Family Event
DESCRIPTION:Van Junior/Senior High School
URL:https://www.wvgearup.org/event/transition-and-college-readiness-family-event-4/
END:VEVENT
BEGIN:VEVENT
DTSTART;TZID=America/New_York:20260515T093000
DTEND;TZID=America/New_York:20260515T103000
DTSTAMP:20260422T185800
CREATED:20260422T123725Z
LAST-MODIFIED:20260422T123725Z
UID:5947-1778837400-1778841000@www.wvgearup.org
SUMMARY:College Decision Day
DESCRIPTION:Van Junior/Senior High School
URL:https://www.wvgearup.org/event/college-decision-day-29/
END:VEVENT
BEGIN:VEVENT
DTSTART;TZID=America/New_York:20260515T133000
DTEND;TZID=America/New_York:20260515T150000
DTSTAMP:20260422T185800
CREATED:20250902T162818Z
LAST-MODIFIED:20250902T162818Z
UID:5674-1778851800-1778857200@www.wvgearup.org
SUMMARY:College Decision Day
DESCRIPTION:Lincoln County High School
URL:https://www.wvgearup.org/event/college-decision-day-24/
END:VEVENT
BEGIN:VEVENT
DTSTART;TZID=America/New_York:20260518T133000
DTEND;TZID=America/New_York:20260518T143000
DTSTAMP:20260422T185800
CREATED:20260310T203627Z
LAST-MODIFIED:20260310T203627Z
UID:5927-1779111000-1779114600@www.wvgearup.org
SUMMARY:College Decision Day
DESCRIPTION:Chapmanville Regional High School
URL:https://www.wvgearup.org/event/college-decision-day-26/
END:VEVENT
END:VCALENDAR