BEGIN:VCALENDAR
VERSION:2.0
PRODID:-//West Virginia Gear Up - ECPv6.15.11//NONSGML v1.0//EN
CALSCALE:GREGORIAN
METHOD:PUBLISH
X-WR-CALNAME:West Virginia Gear Up
X-ORIGINAL-URL:https://www.wvgearup.org
X-WR-CALDESC:Events for West Virginia Gear Up
REFRESH-INTERVAL;VALUE=DURATION:PT1H
X-Robots-Tag:noindex
X-PUBLISHED-TTL:PT1H
BEGIN:VTIMEZONE
TZID:America/New_York
BEGIN:DAYLIGHT
TZOFFSETFROM:-0500
TZOFFSETTO:-0400
TZNAME:EDT
DTSTART:20230312T070000
END:DAYLIGHT
BEGIN:STANDARD
TZOFFSETFROM:-0400
TZOFFSETTO:-0500
TZNAME:EST
DTSTART:20231105T060000
END:STANDARD
BEGIN:DAYLIGHT
TZOFFSETFROM:-0500
TZOFFSETTO:-0400
TZNAME:EDT
DTSTART:20240310T070000
END:DAYLIGHT
BEGIN:STANDARD
TZOFFSETFROM:-0400
TZOFFSETTO:-0500
TZNAME:EST
DTSTART:20241103T060000
END:STANDARD
BEGIN:DAYLIGHT
TZOFFSETFROM:-0500
TZOFFSETTO:-0400
TZNAME:EDT
DTSTART:20250309T070000
END:DAYLIGHT
BEGIN:STANDARD
TZOFFSETFROM:-0400
TZOFFSETTO:-0500
TZNAME:EST
DTSTART:20251102T060000
END:STANDARD
END:VTIMEZONE
BEGIN:VEVENT
DTSTART;TZID=America/New_York:20241212T080000
DTEND;TZID=America/New_York:20241212T120000
DTSTAMP:20260419T130012
CREATED:20241220T202054Z
LAST-MODIFIED:20241220T202054Z
UID:5403-1733990400-1734004800@www.wvgearup.org
SUMMARY:College Visit: Mountwest
DESCRIPTION:Tolsia High School
URL:https://www.wvgearup.org/event/college-visit-mountwest-2/
END:VEVENT
BEGIN:VEVENT
DTSTART;TZID=America/New_York:20241212T080000
DTEND;TZID=America/New_York:20241212T150000
DTSTAMP:20260419T130012
CREATED:20241118T132135Z
LAST-MODIFIED:20241118T132149Z
UID:5341-1733990400-1734015600@www.wvgearup.org
SUMMARY:Campus Tour of WVU-Parkersburg
DESCRIPTION:Wahama Junior/Senior High School
URL:https://www.wvgearup.org/event/campus-tour-of-wvu-parkersburg-2/
END:VEVENT
BEGIN:VEVENT
DTSTART;TZID=America/New_York:20241212T090000
DTEND;TZID=America/New_York:20241212T133000
DTSTAMP:20260419T130012
CREATED:20250318T140300Z
LAST-MODIFIED:20250318T140309Z
UID:5556-1733994000-1734010200@www.wvgearup.org
SUMMARY:WVSU Campus Visit
DESCRIPTION:Scott High School
URL:https://www.wvgearup.org/event/wvsu-campus-visit/
END:VEVENT
BEGIN:VEVENT
DTSTART;TZID=America/New_York:20241212T100000
DTEND;TZID=America/New_York:20241212T110000
DTSTAMP:20260419T130012
CREATED:20241220T200738Z
LAST-MODIFIED:20241220T200738Z
UID:5397-1733997600-1734001200@www.wvgearup.org
SUMMARY:HEROS Virtual Christmas Party
DESCRIPTION:Wayne High School
URL:https://www.wvgearup.org/event/heros-virtual-christmas-party/
END:VEVENT
END:VCALENDAR