BEGIN:VCALENDAR
VERSION:2.0
PRODID:-//West Virginia Gear Up - ECPv6.15.11//NONSGML v1.0//EN
CALSCALE:GREGORIAN
METHOD:PUBLISH
X-WR-CALNAME:West Virginia Gear Up
X-ORIGINAL-URL:https://www.wvgearup.org
X-WR-CALDESC:Events for West Virginia Gear Up
REFRESH-INTERVAL;VALUE=DURATION:PT1H
X-Robots-Tag:noindex
X-PUBLISHED-TTL:PT1H
BEGIN:VTIMEZONE
TZID:America/New_York
BEGIN:DAYLIGHT
TZOFFSETFROM:-0500
TZOFFSETTO:-0400
TZNAME:EDT
DTSTART:20230312T070000
END:DAYLIGHT
BEGIN:STANDARD
TZOFFSETFROM:-0400
TZOFFSETTO:-0500
TZNAME:EST
DTSTART:20231105T060000
END:STANDARD
BEGIN:DAYLIGHT
TZOFFSETFROM:-0500
TZOFFSETTO:-0400
TZNAME:EDT
DTSTART:20240310T070000
END:DAYLIGHT
BEGIN:STANDARD
TZOFFSETFROM:-0400
TZOFFSETTO:-0500
TZNAME:EST
DTSTART:20241103T060000
END:STANDARD
BEGIN:DAYLIGHT
TZOFFSETFROM:-0500
TZOFFSETTO:-0400
TZNAME:EDT
DTSTART:20250309T070000
END:DAYLIGHT
BEGIN:STANDARD
TZOFFSETFROM:-0400
TZOFFSETTO:-0500
TZNAME:EST
DTSTART:20251102T060000
END:STANDARD
END:VTIMEZONE
BEGIN:VEVENT
DTSTART;TZID=America/New_York:20241120T082000
DTEND;TZID=America/New_York:20241120T144500
DTSTAMP:20260419T141545
CREATED:20241008T181306Z
LAST-MODIFIED:20241008T181306Z
UID:5269-1732090800-1732113900@www.wvgearup.org
SUMMARY:Marshall Aviation School/Mountwest Community and Technical College
DESCRIPTION:Point Pleasant Junior/Senior High School
URL:https://www.wvgearup.org/event/marshall-aviation-school-mountwest-community-and-technical-college/
END:VEVENT
BEGIN:VEVENT
DTSTART;TZID=America/New_York:20241120T090000
DTEND;TZID=America/New_York:20241120T133000
DTSTAMP:20260419T141545
CREATED:20241118T132812Z
LAST-MODIFIED:20241118T132812Z
UID:5351-1732093200-1732109400@www.wvgearup.org
SUMMARY:College Visit
DESCRIPTION:Mingo Central Comprehensive High School
URL:https://www.wvgearup.org/event/college-visit-23/
END:VEVENT
BEGIN:VEVENT
DTSTART;TZID=America/New_York:20241120T173000
DTEND;TZID=America/New_York:20241120T193000
DTSTAMP:20260419T141545
CREATED:20241118T132237Z
LAST-MODIFIED:20241118T132237Z
UID:5343-1732123800-1732131000@www.wvgearup.org
SUMMARY:Financial Aid Workshop/FSA ID Creation
DESCRIPTION:Wahama Junior/Senior High School
URL:https://www.wvgearup.org/event/financial-aid-workshop-fsa-id-creation-2/
END:VEVENT
END:VCALENDAR