BEGIN:VCALENDAR
VERSION:2.0
PRODID:-//West Virginia Gear Up - ECPv6.15.11//NONSGML v1.0//EN
CALSCALE:GREGORIAN
METHOD:PUBLISH
X-WR-CALNAME:West Virginia Gear Up
X-ORIGINAL-URL:https://www.wvgearup.org
X-WR-CALDESC:Events for West Virginia Gear Up
REFRESH-INTERVAL;VALUE=DURATION:PT1H
X-Robots-Tag:noindex
X-PUBLISHED-TTL:PT1H
BEGIN:VTIMEZONE
TZID:America/New_York
BEGIN:DAYLIGHT
TZOFFSETFROM:-0500
TZOFFSETTO:-0400
TZNAME:EDT
DTSTART:20230312T070000
END:DAYLIGHT
BEGIN:STANDARD
TZOFFSETFROM:-0400
TZOFFSETTO:-0500
TZNAME:EST
DTSTART:20231105T060000
END:STANDARD
BEGIN:DAYLIGHT
TZOFFSETFROM:-0500
TZOFFSETTO:-0400
TZNAME:EDT
DTSTART:20240310T070000
END:DAYLIGHT
BEGIN:STANDARD
TZOFFSETFROM:-0400
TZOFFSETTO:-0500
TZNAME:EST
DTSTART:20241103T060000
END:STANDARD
BEGIN:DAYLIGHT
TZOFFSETFROM:-0500
TZOFFSETTO:-0400
TZNAME:EDT
DTSTART:20250309T070000
END:DAYLIGHT
BEGIN:STANDARD
TZOFFSETFROM:-0400
TZOFFSETTO:-0500
TZNAME:EST
DTSTART:20251102T060000
END:STANDARD
END:VTIMEZONE
BEGIN:VEVENT
DTSTART;TZID=America/New_York:20241118T133000
DTEND;TZID=America/New_York:20241118T143000
DTSTAMP:20260419T141503
CREATED:20241029T144726Z
LAST-MODIFIED:20241029T144726Z
UID:5300-1731936600-1731940200@www.wvgearup.org
SUMMARY:Financial Aid 101 Workshop for Seniors
DESCRIPTION:Lincoln County High School
URL:https://www.wvgearup.org/event/financial-aid-101-workshop-for-seniors/
END:VEVENT
BEGIN:VEVENT
DTSTART;TZID=America/New_York:20241118T180000
DTEND;TZID=America/New_York:20241118T190000
DTSTAMP:20260419T141503
CREATED:20241029T144629Z
LAST-MODIFIED:20241029T144629Z
UID:5298-1731952800-1731956400@www.wvgearup.org
SUMMARY:Financial Aid 101 Workshop for Parents/Guardians/Students
DESCRIPTION:Lincoln County High School
URL:https://www.wvgearup.org/event/financial-aid-101-workshop-for-parents-guardians-students/
END:VEVENT
END:VCALENDAR