BEGIN:VCALENDAR
VERSION:2.0
PRODID:-//West Virginia Gear Up - ECPv6.15.11//NONSGML v1.0//EN
CALSCALE:GREGORIAN
METHOD:PUBLISH
X-ORIGINAL-URL:https://www.wvgearup.org
X-WR-CALDESC:Events for West Virginia Gear Up
REFRESH-INTERVAL;VALUE=DURATION:PT1H
X-Robots-Tag:noindex
X-PUBLISHED-TTL:PT1H
BEGIN:VTIMEZONE
TZID:America/New_York
BEGIN:DAYLIGHT
TZOFFSETFROM:-0500
TZOFFSETTO:-0400
TZNAME:EDT
DTSTART:20230312T070000
END:DAYLIGHT
BEGIN:STANDARD
TZOFFSETFROM:-0400
TZOFFSETTO:-0500
TZNAME:EST
DTSTART:20231105T060000
END:STANDARD
BEGIN:DAYLIGHT
TZOFFSETFROM:-0500
TZOFFSETTO:-0400
TZNAME:EDT
DTSTART:20240310T070000
END:DAYLIGHT
BEGIN:STANDARD
TZOFFSETFROM:-0400
TZOFFSETTO:-0500
TZNAME:EST
DTSTART:20241103T060000
END:STANDARD
BEGIN:DAYLIGHT
TZOFFSETFROM:-0500
TZOFFSETTO:-0400
TZNAME:EDT
DTSTART:20250309T070000
END:DAYLIGHT
BEGIN:STANDARD
TZOFFSETFROM:-0400
TZOFFSETTO:-0500
TZNAME:EST
DTSTART:20251102T060000
END:STANDARD
END:VTIMEZONE
BEGIN:VEVENT
DTSTART;TZID=America/New_York:20241107T070000
DTEND;TZID=America/New_York:20241107T190000
DTSTAMP:20260419T141807
CREATED:20241118T131723Z
LAST-MODIFIED:20241118T131736Z
UID:5335-1730962800-1731006000@www.wvgearup.org
SUMMARY:WVU College Visit
DESCRIPTION:Spring Valley High School
URL:https://www.wvgearup.org/event/wvu-college-visit/
END:VEVENT
BEGIN:VEVENT
DTSTART;TZID=America/New_York:20241107T080000
DTEND;TZID=America/New_York:20241107T150000
DTSTAMP:20260419T141807
CREATED:20241030T191850Z
LAST-MODIFIED:20241030T191850Z
UID:5319-1730966400-1730991600@www.wvgearup.org
SUMMARY:College Visit
DESCRIPTION:Richwood High School
URL:https://www.wvgearup.org/event/college-visit-20/
END:VEVENT
BEGIN:VEVENT
DTSTART;TZID=America/New_York:20241107T170000
DTEND;TZID=America/New_York:20241107T190000
DTSTAMP:20260419T141807
CREATED:20241029T140815Z
LAST-MODIFIED:20241029T140815Z
UID:5290-1730998800-1731006000@www.wvgearup.org
SUMMARY:Financial Aid 101
DESCRIPTION:Point Pleasant Junior/Senior High School
URL:https://www.wvgearup.org/event/financial-aid-101-2/
END:VEVENT
END:VCALENDAR