BEGIN:VCALENDAR
VERSION:2.0
PRODID:-//West Virginia Gear Up - ECPv6.15.11//NONSGML v1.0//EN
CALSCALE:GREGORIAN
METHOD:PUBLISH
X-WR-CALNAME:West Virginia Gear Up
X-ORIGINAL-URL:https://www.wvgearup.org
X-WR-CALDESC:Events for West Virginia Gear Up
REFRESH-INTERVAL;VALUE=DURATION:PT1H
X-Robots-Tag:noindex
X-PUBLISHED-TTL:PT1H
BEGIN:VTIMEZONE
TZID:America/New_York
BEGIN:DAYLIGHT
TZOFFSETFROM:-0500
TZOFFSETTO:-0400
TZNAME:EDT
DTSTART:20230312T070000
END:DAYLIGHT
BEGIN:STANDARD
TZOFFSETFROM:-0400
TZOFFSETTO:-0500
TZNAME:EST
DTSTART:20231105T060000
END:STANDARD
BEGIN:DAYLIGHT
TZOFFSETFROM:-0500
TZOFFSETTO:-0400
TZNAME:EDT
DTSTART:20240310T070000
END:DAYLIGHT
BEGIN:STANDARD
TZOFFSETFROM:-0400
TZOFFSETTO:-0500
TZNAME:EST
DTSTART:20241103T060000
END:STANDARD
BEGIN:DAYLIGHT
TZOFFSETFROM:-0500
TZOFFSETTO:-0400
TZNAME:EDT
DTSTART:20250309T070000
END:DAYLIGHT
BEGIN:STANDARD
TZOFFSETFROM:-0400
TZOFFSETTO:-0500
TZNAME:EST
DTSTART:20251102T060000
END:STANDARD
END:VTIMEZONE
BEGIN:VEVENT
DTSTART;TZID=America/New_York:20241002T080000
DTEND;TZID=America/New_York:20241002T110000
DTSTAMP:20260419T154659
CREATED:20240916T163113Z
LAST-MODIFIED:20240916T163113Z
UID:5199-1727856000-1727866800@www.wvgearup.org
SUMMARY:College Day at Marshall University
DESCRIPTION:Wayne High School
URL:https://www.wvgearup.org/event/college-day-at-marshall-university-2/
END:VEVENT
BEGIN:VEVENT
DTSTART;TZID=America/New_York:20241002T080000
DTEND;TZID=America/New_York:20241002T110000
DTSTAMP:20260419T154659
CREATED:20241008T143123Z
LAST-MODIFIED:20241008T143123Z
UID:5229-1727856000-1727866800@www.wvgearup.org
SUMMARY:College Day at Marshall University
DESCRIPTION:Tolsia High School
URL:https://www.wvgearup.org/event/college-day-at-marshall-university-3/
END:VEVENT
BEGIN:VEVENT
DTSTART;TZID=America/New_York:20241002T080000
DTEND;TZID=America/New_York:20241002T150000
DTSTAMP:20260419T154659
CREATED:20241008T143354Z
LAST-MODIFIED:20241008T143354Z
UID:5235-1727856000-1727881200@www.wvgearup.org
SUMMARY:Kanawha County College Fair/UC Tour
DESCRIPTION:Roane County High School
URL:https://www.wvgearup.org/event/kanawha-county-college-fair-uc-tour/
END:VEVENT
BEGIN:VEVENT
DTSTART;TZID=America/New_York:20241002T100000
DTEND;TZID=America/New_York:20241002T130000
DTSTAMP:20260419T154659
CREATED:20240916T162834Z
LAST-MODIFIED:20240916T162834Z
UID:5193-1727863200-1727874000@www.wvgearup.org
SUMMARY:Marshall University Campus Visit
DESCRIPTION:Lincoln County High School
URL:https://www.wvgearup.org/event/marshall-university-campus-visit-5/
END:VEVENT
END:VCALENDAR