BEGIN:VCALENDAR
VERSION:2.0
PRODID:-//West Virginia Gear Up - ECPv6.15.11//NONSGML v1.0//EN
CALSCALE:GREGORIAN
METHOD:PUBLISH
X-WR-CALNAME:West Virginia Gear Up
X-ORIGINAL-URL:https://www.wvgearup.org
X-WR-CALDESC:Events for West Virginia Gear Up
REFRESH-INTERVAL;VALUE=DURATION:PT1H
X-Robots-Tag:noindex
X-PUBLISHED-TTL:PT1H
BEGIN:VTIMEZONE
TZID:America/New_York
BEGIN:DAYLIGHT
TZOFFSETFROM:-0500
TZOFFSETTO:-0400
TZNAME:EDT
DTSTART:20230312T070000
END:DAYLIGHT
BEGIN:STANDARD
TZOFFSETFROM:-0400
TZOFFSETTO:-0500
TZNAME:EST
DTSTART:20231105T060000
END:STANDARD
BEGIN:DAYLIGHT
TZOFFSETFROM:-0500
TZOFFSETTO:-0400
TZNAME:EDT
DTSTART:20240310T070000
END:DAYLIGHT
BEGIN:STANDARD
TZOFFSETFROM:-0400
TZOFFSETTO:-0500
TZNAME:EST
DTSTART:20241103T060000
END:STANDARD
BEGIN:DAYLIGHT
TZOFFSETFROM:-0500
TZOFFSETTO:-0400
TZNAME:EDT
DTSTART:20250309T070000
END:DAYLIGHT
BEGIN:STANDARD
TZOFFSETFROM:-0400
TZOFFSETTO:-0500
TZNAME:EST
DTSTART:20251102T060000
END:STANDARD
END:VTIMEZONE
BEGIN:VEVENT
DTSTART;TZID=America/New_York:20240815T150000
DTEND;TZID=America/New_York:20240815T170000
DTSTAMP:20260419T183831
CREATED:20240812T134459Z
LAST-MODIFIED:20240812T134459Z
UID:5146-1723734000-1723741200@www.wvgearup.org
SUMMARY:Back to School 2024
DESCRIPTION:Wayne High School
URL:https://www.wvgearup.org/event/back-to-school-2024/
END:VEVENT
BEGIN:VEVENT
DTSTART;TZID=America/New_York:20240815T160000
DTEND;TZID=America/New_York:20240815T190000
DTSTAMP:20260419T183831
CREATED:20240916T162010Z
LAST-MODIFIED:20240916T162010Z
UID:5175-1723737600-1723748400@www.wvgearup.org
SUMMARY:GEARUP WELCOME BACK
DESCRIPTION:Tolsia High School
URL:https://www.wvgearup.org/event/gearup-welcome-back/
END:VEVENT
BEGIN:VEVENT
DTSTART;TZID=America/New_York:20240815T163000
DTEND;TZID=America/New_York:20240815T190000
DTSTAMP:20260419T183831
CREATED:20240812T134158Z
LAST-MODIFIED:20240812T134158Z
UID:5142-1723739400-1723748400@www.wvgearup.org
SUMMARY:Welcome to GEAR UP Day
DESCRIPTION:Nicholas County High School
URL:https://www.wvgearup.org/event/welcome-to-gear-up-day-12/
END:VEVENT
BEGIN:VEVENT
DTSTART;TZID=America/New_York:20240815T173000
DTEND;TZID=America/New_York:20240815T193000
DTSTAMP:20260419T183831
CREATED:20240812T133945Z
LAST-MODIFIED:20240812T133945Z
UID:5138-1723743000-1723750200@www.wvgearup.org
SUMMARY:WVGEARUP Day 2024
DESCRIPTION:Spring Valley High School
URL:https://www.wvgearup.org/event/wvgearup-day-2024/
END:VEVENT
END:VCALENDAR