BEGIN:VCALENDAR
VERSION:2.0
PRODID:-//West Virginia Gear Up - ECPv6.15.11//NONSGML v1.0//EN
CALSCALE:GREGORIAN
METHOD:PUBLISH
X-ORIGINAL-URL:https://www.wvgearup.org
X-WR-CALDESC:Events for West Virginia Gear Up
REFRESH-INTERVAL;VALUE=DURATION:PT1H
X-Robots-Tag:noindex
X-PUBLISHED-TTL:PT1H
BEGIN:VTIMEZONE
TZID:America/New_York
BEGIN:DAYLIGHT
TZOFFSETFROM:-0500
TZOFFSETTO:-0400
TZNAME:EDT
DTSTART:20230312T070000
END:DAYLIGHT
BEGIN:STANDARD
TZOFFSETFROM:-0400
TZOFFSETTO:-0500
TZNAME:EST
DTSTART:20231105T060000
END:STANDARD
BEGIN:DAYLIGHT
TZOFFSETFROM:-0500
TZOFFSETTO:-0400
TZNAME:EDT
DTSTART:20240310T070000
END:DAYLIGHT
BEGIN:STANDARD
TZOFFSETFROM:-0400
TZOFFSETTO:-0500
TZNAME:EST
DTSTART:20241103T060000
END:STANDARD
BEGIN:DAYLIGHT
TZOFFSETFROM:-0500
TZOFFSETTO:-0400
TZNAME:EDT
DTSTART:20250309T070000
END:DAYLIGHT
BEGIN:STANDARD
TZOFFSETFROM:-0400
TZOFFSETTO:-0500
TZNAME:EST
DTSTART:20251102T060000
END:STANDARD
END:VTIMEZONE
BEGIN:VEVENT
DTSTART;TZID=America/New_York:20240531T074500
DTEND;TZID=America/New_York:20240531T143000
DTSTAMP:20260419T211549
CREATED:20240530T163822Z
LAST-MODIFIED:20240530T163822Z
UID:5100-1717141500-1717165800@www.wvgearup.org
SUMMARY:Play Higher VR Career Experience
DESCRIPTION:Buffalo Middle School
URL:https://www.wvgearup.org/event/play-higher-vr-career-experience/
END:VEVENT
BEGIN:VEVENT
DTSTART;TZID=America/New_York:20240531T090000
DTEND;TZID=America/New_York:20240531T100000
DTSTAMP:20260419T211549
CREATED:20240320T134845Z
LAST-MODIFIED:20240320T134845Z
UID:4972-1717146000-1717149600@www.wvgearup.org
SUMMARY:8th Grade Transition Event
DESCRIPTION:Buffalo Middle School
URL:https://www.wvgearup.org/event/8th-grade-transition-event-2/
END:VEVENT
END:VCALENDAR