BEGIN:VCALENDAR
VERSION:2.0
PRODID:-//West Virginia Gear Up - ECPv6.15.11//NONSGML v1.0//EN
CALSCALE:GREGORIAN
METHOD:PUBLISH
X-ORIGINAL-URL:https://www.wvgearup.org
X-WR-CALDESC:Events for West Virginia Gear Up
REFRESH-INTERVAL;VALUE=DURATION:PT1H
X-Robots-Tag:noindex
X-PUBLISHED-TTL:PT1H
BEGIN:VTIMEZONE
TZID:America/New_York
BEGIN:DAYLIGHT
TZOFFSETFROM:-0500
TZOFFSETTO:-0400
TZNAME:EDT
DTSTART:20230312T070000
END:DAYLIGHT
BEGIN:STANDARD
TZOFFSETFROM:-0400
TZOFFSETTO:-0500
TZNAME:EST
DTSTART:20231105T060000
END:STANDARD
BEGIN:DAYLIGHT
TZOFFSETFROM:-0500
TZOFFSETTO:-0400
TZNAME:EDT
DTSTART:20240310T070000
END:DAYLIGHT
BEGIN:STANDARD
TZOFFSETFROM:-0400
TZOFFSETTO:-0500
TZNAME:EST
DTSTART:20241103T060000
END:STANDARD
BEGIN:DAYLIGHT
TZOFFSETFROM:-0500
TZOFFSETTO:-0400
TZNAME:EDT
DTSTART:20250309T070000
END:DAYLIGHT
BEGIN:STANDARD
TZOFFSETFROM:-0400
TZOFFSETTO:-0500
TZNAME:EST
DTSTART:20251102T060000
END:STANDARD
END:VTIMEZONE
BEGIN:VEVENT
DTSTART;TZID=America/New_York:20240521T090000
DTEND;TZID=America/New_York:20240521T120000
DTSTAMP:20260419T223942
CREATED:20240222T191737Z
LAST-MODIFIED:20240222T191737Z
UID:4830-1716282000-1716292800@www.wvgearup.org
SUMMARY:Military Signing Day Event
DESCRIPTION:Hannan Junior/Senior High School
URL:https://www.wvgearup.org/event/military-signing-day-event/
END:VEVENT
BEGIN:VEVENT
DTSTART;TZID=America/New_York:20240521T090000
DTEND;TZID=America/New_York:20240521T120000
DTSTAMP:20260419T223942
CREATED:20240222T191832Z
LAST-MODIFIED:20240222T191832Z
UID:4832-1716282000-1716292800@www.wvgearup.org
SUMMARY:College Decision Day Event
DESCRIPTION:Hannan Junior/Senior High School
URL:https://www.wvgearup.org/event/college-decision-day-event/
END:VEVENT
BEGIN:VEVENT
DTSTART;TZID=America/New_York:20240521T090000
DTEND;TZID=America/New_York:20240521T120000
DTSTAMP:20260419T223942
CREATED:20240222T191920Z
LAST-MODIFIED:20240222T191920Z
UID:4834-1716282000-1716292800@www.wvgearup.org
SUMMARY:Transition and College Readiness Family Event
DESCRIPTION:Hannan Junior/Senior High School
URL:https://www.wvgearup.org/event/transition-and-college-readiness-family-event/
END:VEVENT
BEGIN:VEVENT
DTSTART;TZID=America/New_York:20240521T090000
DTEND;TZID=America/New_York:20240521T120000
DTSTAMP:20260419T223943
CREATED:20240222T192034Z
LAST-MODIFIED:20240222T192034Z
UID:4837-1716282000-1716292800@www.wvgearup.org
SUMMARY:Transition to High School Family Event
DESCRIPTION:Hannan Junior/Senior High School
URL:https://www.wvgearup.org/event/transition-to-high-school-family-event/
END:VEVENT
BEGIN:VEVENT
DTSTART;TZID=America/New_York:20240521T090000
DTEND;TZID=America/New_York:20240521T120000
DTSTAMP:20260419T223943
CREATED:20240301T195601Z
LAST-MODIFIED:20240301T195601Z
UID:4894-1716282000-1716292800@www.wvgearup.org
SUMMARY:Military Signing Day Event
DESCRIPTION:Hannan Junior/Senior High School
URL:https://www.wvgearup.org/event/military-signing-day-event-2/
END:VEVENT
BEGIN:VEVENT
DTSTART;TZID=America/New_York:20240521T090000
DTEND;TZID=America/New_York:20240521T120000
DTSTAMP:20260419T223943
CREATED:20240301T195641Z
LAST-MODIFIED:20240301T195641Z
UID:4896-1716282000-1716292800@www.wvgearup.org
SUMMARY:College Decision Day Event
DESCRIPTION:Hannan Junior/Senior High School
URL:https://www.wvgearup.org/event/college-decision-day-event-2/
END:VEVENT
BEGIN:VEVENT
DTSTART;TZID=America/New_York:20240521T090000
DTEND;TZID=America/New_York:20240521T120000
DTSTAMP:20260419T223943
CREATED:20240301T195716Z
LAST-MODIFIED:20240301T195716Z
UID:4898-1716282000-1716292800@www.wvgearup.org
SUMMARY:Transition and College Readiness Family Event
DESCRIPTION:Hannan Junior/Senior High School
URL:https://www.wvgearup.org/event/transition-and-college-readiness-family-event-2/
END:VEVENT
BEGIN:VEVENT
DTSTART;TZID=America/New_York:20240521T090000
DTEND;TZID=America/New_York:20240521T120000
DTSTAMP:20260419T223943
CREATED:20240301T195751Z
LAST-MODIFIED:20240301T195751Z
UID:4900-1716282000-1716292800@www.wvgearup.org
SUMMARY:Transition to High School Family Event
DESCRIPTION:Hannan Junior/Senior High School
URL:https://www.wvgearup.org/event/transition-to-high-school-family-event-2/
END:VEVENT
BEGIN:VEVENT
DTSTART;TZID=America/New_York:20240521T110000
DTEND;TZID=America/New_York:20240521T130000
DTSTAMP:20260419T223943
CREATED:20240516T194123Z
LAST-MODIFIED:20240516T194151Z
UID:5072-1716289200-1716296400@www.wvgearup.org
SUMMARY:HEROS for the HEROS
DESCRIPTION:Wayne High School
URL:https://www.wvgearup.org/event/heros-for-the-heros/
END:VEVENT
END:VCALENDAR