BEGIN:VCALENDAR
VERSION:2.0
PRODID:-//West Virginia Gear Up - ECPv6.15.11//NONSGML v1.0//EN
CALSCALE:GREGORIAN
METHOD:PUBLISH
X-WR-CALNAME:West Virginia Gear Up
X-ORIGINAL-URL:https://www.wvgearup.org
X-WR-CALDESC:Events for West Virginia Gear Up
REFRESH-INTERVAL;VALUE=DURATION:PT1H
X-Robots-Tag:noindex
X-PUBLISHED-TTL:PT1H
BEGIN:VTIMEZONE
TZID:America/New_York
BEGIN:DAYLIGHT
TZOFFSETFROM:-0500
TZOFFSETTO:-0400
TZNAME:EDT
DTSTART:20230312T070000
END:DAYLIGHT
BEGIN:STANDARD
TZOFFSETFROM:-0400
TZOFFSETTO:-0500
TZNAME:EST
DTSTART:20231105T060000
END:STANDARD
BEGIN:DAYLIGHT
TZOFFSETFROM:-0500
TZOFFSETTO:-0400
TZNAME:EDT
DTSTART:20240310T070000
END:DAYLIGHT
BEGIN:STANDARD
TZOFFSETFROM:-0400
TZOFFSETTO:-0500
TZNAME:EST
DTSTART:20241103T060000
END:STANDARD
BEGIN:DAYLIGHT
TZOFFSETFROM:-0500
TZOFFSETTO:-0400
TZNAME:EDT
DTSTART:20250309T070000
END:DAYLIGHT
BEGIN:STANDARD
TZOFFSETFROM:-0400
TZOFFSETTO:-0500
TZNAME:EST
DTSTART:20251102T060000
END:STANDARD
END:VTIMEZONE
BEGIN:VEVENT
DTSTART;TZID=America/New_York:20240415T080000
DTEND;TZID=America/New_York:20240415T150000
DTSTAMP:20260419T235929
CREATED:20240410T160238Z
LAST-MODIFIED:20240410T160238Z
UID:4997-1713168000-1713193200@www.wvgearup.org
SUMMARY:GEAR UP STEM
DESCRIPTION:Wayne High School
URL:https://www.wvgearup.org/event/gear-up-stem/
END:VEVENT
BEGIN:VEVENT
DTSTART;TZID=America/New_York:20240415T090000
DTEND;TZID=America/New_York:20240415T130000
DTSTAMP:20260419T235929
CREATED:20240410T125846Z
LAST-MODIFIED:20240410T130016Z
UID:4995-1713171600-1713186000@www.wvgearup.org
SUMMARY:STEM Academy at the WV Culture Center
DESCRIPTION:
URL:https://www.wvgearup.org/event/stem-academy-at-the-wv-culture-center/
END:VEVENT
BEGIN:VEVENT
DTSTART;TZID=America/New_York:20240415T090000
DTEND;TZID=America/New_York:20240415T133000
DTSTAMP:20260419T235929
CREATED:20240320T134557Z
LAST-MODIFIED:20240320T134557Z
UID:4966-1713171600-1713187800@www.wvgearup.org
SUMMARY:GEAR UP STEM Academy Event
DESCRIPTION:Hannan Junior/Senior High School
URL:https://www.wvgearup.org/event/gear-up-stem-academy-event/
END:VEVENT
BEGIN:VEVENT
DTSTART;TZID=America/New_York:20240415T090000
DTEND;TZID=America/New_York:20240415T133000
DTSTAMP:20260419T235929
CREATED:20240320T134656Z
LAST-MODIFIED:20240320T134656Z
UID:4968-1713171600-1713187800@www.wvgearup.org
SUMMARY:STEM Academy
DESCRIPTION:Point Pleasant Junior/Senior High School
URL:https://www.wvgearup.org/event/stem-academy/
END:VEVENT
END:VCALENDAR