BEGIN:VCALENDAR
VERSION:2.0
PRODID:-//West Virginia Gear Up - ECPv6.15.11//NONSGML v1.0//EN
CALSCALE:GREGORIAN
METHOD:PUBLISH
X-WR-CALNAME:West Virginia Gear Up
X-ORIGINAL-URL:https://www.wvgearup.org
X-WR-CALDESC:Events for West Virginia Gear Up
REFRESH-INTERVAL;VALUE=DURATION:PT1H
X-Robots-Tag:noindex
X-PUBLISHED-TTL:PT1H
BEGIN:VTIMEZONE
TZID:America/New_York
BEGIN:DAYLIGHT
TZOFFSETFROM:-0500
TZOFFSETTO:-0400
TZNAME:EDT
DTSTART:20230312T070000
END:DAYLIGHT
BEGIN:STANDARD
TZOFFSETFROM:-0400
TZOFFSETTO:-0500
TZNAME:EST
DTSTART:20231105T060000
END:STANDARD
BEGIN:DAYLIGHT
TZOFFSETFROM:-0500
TZOFFSETTO:-0400
TZNAME:EDT
DTSTART:20240310T070000
END:DAYLIGHT
BEGIN:STANDARD
TZOFFSETFROM:-0400
TZOFFSETTO:-0500
TZNAME:EST
DTSTART:20241103T060000
END:STANDARD
BEGIN:DAYLIGHT
TZOFFSETFROM:-0500
TZOFFSETTO:-0400
TZNAME:EDT
DTSTART:20250309T070000
END:DAYLIGHT
BEGIN:STANDARD
TZOFFSETFROM:-0400
TZOFFSETTO:-0500
TZNAME:EST
DTSTART:20251102T060000
END:STANDARD
END:VTIMEZONE
BEGIN:VEVENT
DTSTART;TZID=America/New_York:20240327T073000
DTEND;TZID=America/New_York:20240327T144500
DTSTAMP:20260420T013128
CREATED:20240119T153329Z
LAST-MODIFIED:20240119T153329Z
UID:4706-1711524600-1711550700@www.wvgearup.org
SUMMARY:8th Grade STEAM
DESCRIPTION:Madison Middle School
URL:https://www.wvgearup.org/event/8th-grade-steam-2/
END:VEVENT
BEGIN:VEVENT
DTSTART;TZID=America/New_York:20240327T080000
DTEND;TZID=America/New_York:20240327T120000
DTSTAMP:20260420T013128
CREATED:20240322T195119Z
LAST-MODIFIED:20240322T195119Z
UID:4988-1711526400-1711540800@www.wvgearup.org
SUMMARY:8th Grade Orientation at the High School
DESCRIPTION:Crum PK-8
URL:https://www.wvgearup.org/event/8th-grade-orientation-at-the-high-school-2/
END:VEVENT
BEGIN:VEVENT
DTSTART;TZID=America/New_York:20240327T090000
DTEND;TZID=America/New_York:20240327T143000
DTSTAMP:20260420T013128
CREATED:20240320T134305Z
LAST-MODIFIED:20240320T134331Z
UID:4962-1711530000-1711549800@www.wvgearup.org
SUMMARY:MU Campus Visit
DESCRIPTION:Vinson Middle School
URL:https://www.wvgearup.org/event/mu-campus-visit/
END:VEVENT
BEGIN:VEVENT
DTSTART;TZID=America/New_York:20240327T100000
DTEND;TZID=America/New_York:20240327T123000
DTSTAMP:20260420T013128
CREATED:20240116T182735Z
LAST-MODIFIED:20240116T182735Z
UID:4684-1711533600-1711542600@www.wvgearup.org
SUMMARY:College Visit
DESCRIPTION:Logan Senior High School
URL:https://www.wvgearup.org/event/college-visit-16/
END:VEVENT
END:VCALENDAR