BEGIN:VCALENDAR
VERSION:2.0
PRODID:-//West Virginia Gear Up - ECPv6.15.11//NONSGML v1.0//EN
CALSCALE:GREGORIAN
METHOD:PUBLISH
X-WR-CALNAME:West Virginia Gear Up
X-ORIGINAL-URL:https://www.wvgearup.org
X-WR-CALDESC:Events for West Virginia Gear Up
REFRESH-INTERVAL;VALUE=DURATION:PT1H
X-Robots-Tag:noindex
X-PUBLISHED-TTL:PT1H
BEGIN:VTIMEZONE
TZID:America/New_York
BEGIN:DAYLIGHT
TZOFFSETFROM:-0500
TZOFFSETTO:-0400
TZNAME:EDT
DTSTART:20230312T070000
END:DAYLIGHT
BEGIN:STANDARD
TZOFFSETFROM:-0400
TZOFFSETTO:-0500
TZNAME:EST
DTSTART:20231105T060000
END:STANDARD
BEGIN:DAYLIGHT
TZOFFSETFROM:-0500
TZOFFSETTO:-0400
TZNAME:EDT
DTSTART:20240310T070000
END:DAYLIGHT
BEGIN:STANDARD
TZOFFSETFROM:-0400
TZOFFSETTO:-0500
TZNAME:EST
DTSTART:20241103T060000
END:STANDARD
BEGIN:DAYLIGHT
TZOFFSETFROM:-0500
TZOFFSETTO:-0400
TZNAME:EDT
DTSTART:20250309T070000
END:DAYLIGHT
BEGIN:STANDARD
TZOFFSETFROM:-0400
TZOFFSETTO:-0500
TZNAME:EST
DTSTART:20251102T060000
END:STANDARD
END:VTIMEZONE
BEGIN:VEVENT
DTSTART;TZID=America/New_York:20240321T080000
DTEND;TZID=America/New_York:20240321T144500
DTSTAMP:20260420T013126
CREATED:20240301T201541Z
LAST-MODIFIED:20240301T201541Z
UID:4920-1711008000-1711032300@www.wvgearup.org
SUMMARY:Field trip to Ashland Community and Technical College
DESCRIPTION:Wayne High School
URL:https://www.wvgearup.org/event/field-trip-to-ashland-community-and-technical-college-2/
END:VEVENT
BEGIN:VEVENT
DTSTART;TZID=America/New_York:20240321T083000
DTEND;TZID=America/New_York:20240321T150000
DTSTAMP:20260420T013126
CREATED:20240301T195405Z
LAST-MODIFIED:20240301T195405Z
UID:4890-1711009800-1711033200@www.wvgearup.org
SUMMARY:Rio Grande University campus visit
DESCRIPTION:Point Pleasant Junior/Senior High School
URL:https://www.wvgearup.org/event/rio-grande-university-campus-visit/
END:VEVENT
BEGIN:VEVENT
DTSTART;TZID=America/New_York:20240321T093000
DTEND;TZID=America/New_York:20240321T130000
DTSTAMP:20260420T013126
CREATED:20240213T211228Z
LAST-MODIFIED:20240213T211228Z
UID:4747-1711013400-1711026000@www.wvgearup.org
SUMMARY:Freshmen College Visit to Bridge Valley CTC
DESCRIPTION:Man Senior High School
URL:https://www.wvgearup.org/event/freshmen-college-visit-to-bridge-valley-ctc/
END:VEVENT
BEGIN:VEVENT
DTSTART;TZID=America/New_York:20240321T110000
DTEND;TZID=America/New_York:20240321T133000
DTSTAMP:20260420T013126
CREATED:20240320T135159Z
LAST-MODIFIED:20240320T135159Z
UID:4978-1711018800-1711027800@www.wvgearup.org
SUMMARY:College Guest Speaker
DESCRIPTION:Hannan Junior/Senior High School
URL:https://www.wvgearup.org/event/college-guest-speaker-2/
END:VEVENT
END:VCALENDAR