BEGIN:VCALENDAR
VERSION:2.0
PRODID:-//West Virginia Gear Up - ECPv6.15.11//NONSGML v1.0//EN
CALSCALE:GREGORIAN
METHOD:PUBLISH
X-ORIGINAL-URL:https://www.wvgearup.org
X-WR-CALDESC:Events for West Virginia Gear Up
REFRESH-INTERVAL;VALUE=DURATION:PT1H
X-Robots-Tag:noindex
X-PUBLISHED-TTL:PT1H
BEGIN:VTIMEZONE
TZID:America/New_York
BEGIN:DAYLIGHT
TZOFFSETFROM:-0500
TZOFFSETTO:-0400
TZNAME:EDT
DTSTART:20230312T070000
END:DAYLIGHT
BEGIN:STANDARD
TZOFFSETFROM:-0400
TZOFFSETTO:-0500
TZNAME:EST
DTSTART:20231105T060000
END:STANDARD
BEGIN:DAYLIGHT
TZOFFSETFROM:-0500
TZOFFSETTO:-0400
TZNAME:EDT
DTSTART:20240310T070000
END:DAYLIGHT
BEGIN:STANDARD
TZOFFSETFROM:-0400
TZOFFSETTO:-0500
TZNAME:EST
DTSTART:20241103T060000
END:STANDARD
BEGIN:DAYLIGHT
TZOFFSETFROM:-0500
TZOFFSETTO:-0400
TZNAME:EDT
DTSTART:20250309T070000
END:DAYLIGHT
BEGIN:STANDARD
TZOFFSETFROM:-0400
TZOFFSETTO:-0500
TZNAME:EST
DTSTART:20251102T060000
END:STANDARD
END:VTIMEZONE
BEGIN:VEVENT
DTSTART;TZID=America/New_York:20240320T080000
DTEND;TZID=America/New_York:20240320T110000
DTSTAMP:20260420T013213
CREATED:20240301T201947Z
LAST-MODIFIED:20240301T201947Z
UID:4922-1710921600-1710932400@www.wvgearup.org
SUMMARY:9th Grade College Visit
DESCRIPTION:Spring Valley High School
URL:https://www.wvgearup.org/event/9th-grade-college-visit/
END:VEVENT
BEGIN:VEVENT
DTSTART;TZID=America/New_York:20240320T080000
DTEND;TZID=America/New_York:20240320T130000
DTSTAMP:20260420T013213
CREATED:20240122T212243Z
LAST-MODIFIED:20240122T212243Z
UID:4727-1710921600-1710939600@www.wvgearup.org
SUMMARY:Career Day
DESCRIPTION:Point Pleasant Junior/Senior High School
URL:https://www.wvgearup.org/event/career-day/
END:VEVENT
BEGIN:VEVENT
DTSTART;TZID=America/New_York:20240320T101000
DTEND;TZID=America/New_York:20240320T112000
DTSTAMP:20260420T013213
CREATED:20240320T135113Z
LAST-MODIFIED:20240320T135113Z
UID:4976-1710929400-1710933600@www.wvgearup.org
SUMMARY:College Guest Speaker
DESCRIPTION:Hannan Junior/Senior High School
URL:https://www.wvgearup.org/event/college-guest-speaker/
END:VEVENT
BEGIN:VEVENT
DTSTART;TZID=America/New_York:20240320T153000
DTEND;TZID=America/New_York:20240320T173000
DTSTAMP:20260420T013213
CREATED:20240320T134430Z
LAST-MODIFIED:20240320T134430Z
UID:4964-1710948600-1710955800@www.wvgearup.org
SUMMARY:Financial Aid Workshop
DESCRIPTION:Wayne High School
URL:https://www.wvgearup.org/event/financial-aid-workshop-6/
END:VEVENT
END:VCALENDAR