BEGIN:VCALENDAR
VERSION:2.0
PRODID:-//West Virginia Gear Up - ECPv6.15.11//NONSGML v1.0//EN
CALSCALE:GREGORIAN
METHOD:PUBLISH
X-ORIGINAL-URL:https://www.wvgearup.org
X-WR-CALDESC:Events for West Virginia Gear Up
REFRESH-INTERVAL;VALUE=DURATION:PT1H
X-Robots-Tag:noindex
X-PUBLISHED-TTL:PT1H
BEGIN:VTIMEZONE
TZID:America/New_York
BEGIN:DAYLIGHT
TZOFFSETFROM:-0500
TZOFFSETTO:-0400
TZNAME:EDT
DTSTART:20230312T070000
END:DAYLIGHT
BEGIN:STANDARD
TZOFFSETFROM:-0400
TZOFFSETTO:-0500
TZNAME:EST
DTSTART:20231105T060000
END:STANDARD
BEGIN:DAYLIGHT
TZOFFSETFROM:-0500
TZOFFSETTO:-0400
TZNAME:EDT
DTSTART:20240310T070000
END:DAYLIGHT
BEGIN:STANDARD
TZOFFSETFROM:-0400
TZOFFSETTO:-0500
TZNAME:EST
DTSTART:20241103T060000
END:STANDARD
BEGIN:DAYLIGHT
TZOFFSETFROM:-0500
TZOFFSETTO:-0400
TZNAME:EDT
DTSTART:20250309T070000
END:DAYLIGHT
BEGIN:STANDARD
TZOFFSETFROM:-0400
TZOFFSETTO:-0500
TZNAME:EST
DTSTART:20251102T060000
END:STANDARD
END:VTIMEZONE
BEGIN:VEVENT
DTSTART;TZID=America/New_York:20240314T110000
DTEND;TZID=America/New_York:20240314T124000
DTSTAMP:20260420T013316
CREATED:20240214T211115Z
LAST-MODIFIED:20240214T211115Z
UID:4798-1710414000-1710420000@www.wvgearup.org
SUMMARY:Mountwest Community and Technical School - Guest Presenter
DESCRIPTION:Hannan Junior/Senior High School
URL:https://www.wvgearup.org/event/mountwest-community-and-technical-school-guest-presenter/
END:VEVENT
BEGIN:VEVENT
DTSTART;TZID=America/New_York:20240314T160000
DTEND;TZID=America/New_York:20240314T183000
DTSTAMP:20260420T013316
CREATED:20240320T140249Z
LAST-MODIFIED:20240320T140249Z
UID:4980-1710432000-1710441000@www.wvgearup.org
SUMMARY:CTE Career Awareness Event
DESCRIPTION:Spring Valley High School
URL:https://www.wvgearup.org/event/cte-career-awareness-event/
END:VEVENT
END:VCALENDAR