BEGIN:VCALENDAR
VERSION:2.0
PRODID:-//West Virginia Gear Up - ECPv6.15.11//NONSGML v1.0//EN
CALSCALE:GREGORIAN
METHOD:PUBLISH
X-ORIGINAL-URL:https://www.wvgearup.org
X-WR-CALDESC:Events for West Virginia Gear Up
REFRESH-INTERVAL;VALUE=DURATION:PT1H
X-Robots-Tag:noindex
X-PUBLISHED-TTL:PT1H
BEGIN:VTIMEZONE
TZID:America/New_York
BEGIN:DAYLIGHT
TZOFFSETFROM:-0500
TZOFFSETTO:-0400
TZNAME:EDT
DTSTART:20230312T070000
END:DAYLIGHT
BEGIN:STANDARD
TZOFFSETFROM:-0400
TZOFFSETTO:-0500
TZNAME:EST
DTSTART:20231105T060000
END:STANDARD
BEGIN:DAYLIGHT
TZOFFSETFROM:-0500
TZOFFSETTO:-0400
TZNAME:EDT
DTSTART:20240310T070000
END:DAYLIGHT
BEGIN:STANDARD
TZOFFSETFROM:-0400
TZOFFSETTO:-0500
TZNAME:EST
DTSTART:20241103T060000
END:STANDARD
BEGIN:DAYLIGHT
TZOFFSETFROM:-0500
TZOFFSETTO:-0400
TZNAME:EDT
DTSTART:20250309T070000
END:DAYLIGHT
BEGIN:STANDARD
TZOFFSETFROM:-0400
TZOFFSETTO:-0500
TZNAME:EST
DTSTART:20251102T060000
END:STANDARD
END:VTIMEZONE
BEGIN:VEVENT
DTSTART;TZID=America/New_York:20240313T080000
DTEND;TZID=America/New_York:20240313T143000
DTSTAMP:20260420T013213
CREATED:20240308T205653Z
LAST-MODIFIED:20240308T205653Z
UID:4950-1710316800-1710340200@www.wvgearup.org
SUMMARY:Marshall University College Tour
DESCRIPTION:Chapmanville Middle School
URL:https://www.wvgearup.org/event/marshall-university-college-tour-2/
END:VEVENT
BEGIN:VEVENT
DTSTART;TZID=America/New_York:20240313T090000
DTEND;TZID=America/New_York:20240313T143000
DTSTAMP:20260420T013213
CREATED:20240222T191107Z
LAST-MODIFIED:20240222T191107Z
UID:4818-1710320400-1710340200@www.wvgearup.org
SUMMARY:FAIRMONT UNIVERSITY SCIENCE DEPT VISIT
DESCRIPTION:Man Senior High School
URL:https://www.wvgearup.org/event/fairmont-university-science-dept-visit/
END:VEVENT
BEGIN:VEVENT
DTSTART;TZID=America/New_York:20240313T100000
DTEND;TZID=America/New_York:20240313T133000
DTSTAMP:20260420T013213
CREATED:20240320T142942Z
LAST-MODIFIED:20240320T142942Z
UID:4985-1710324000-1710336600@www.wvgearup.org
SUMMARY:Marshall Flight School 24
DESCRIPTION:Madison Middle School
URL:https://www.wvgearup.org/event/marshall-flight-school-24/
END:VEVENT
END:VCALENDAR