BEGIN:VCALENDAR
VERSION:2.0
PRODID:-//West Virginia Gear Up - ECPv6.15.11//NONSGML v1.0//EN
CALSCALE:GREGORIAN
METHOD:PUBLISH
X-WR-CALNAME:West Virginia Gear Up
X-ORIGINAL-URL:https://www.wvgearup.org
X-WR-CALDESC:Events for West Virginia Gear Up
REFRESH-INTERVAL;VALUE=DURATION:PT1H
X-Robots-Tag:noindex
X-PUBLISHED-TTL:PT1H
BEGIN:VTIMEZONE
TZID:America/New_York
BEGIN:DAYLIGHT
TZOFFSETFROM:-0500
TZOFFSETTO:-0400
TZNAME:EDT
DTSTART:20230312T070000
END:DAYLIGHT
BEGIN:STANDARD
TZOFFSETFROM:-0400
TZOFFSETTO:-0500
TZNAME:EST
DTSTART:20231105T060000
END:STANDARD
BEGIN:DAYLIGHT
TZOFFSETFROM:-0500
TZOFFSETTO:-0400
TZNAME:EDT
DTSTART:20240310T070000
END:DAYLIGHT
BEGIN:STANDARD
TZOFFSETFROM:-0400
TZOFFSETTO:-0500
TZNAME:EST
DTSTART:20241103T060000
END:STANDARD
BEGIN:DAYLIGHT
TZOFFSETFROM:-0500
TZOFFSETTO:-0400
TZNAME:EDT
DTSTART:20250309T070000
END:DAYLIGHT
BEGIN:STANDARD
TZOFFSETFROM:-0400
TZOFFSETTO:-0500
TZNAME:EST
DTSTART:20251102T060000
END:STANDARD
END:VTIMEZONE
BEGIN:VEVENT
DTSTART;TZID=America/New_York:20240306T080000
DTEND;TZID=America/New_York:20240306T130000
DTSTAMP:20260420T013058
CREATED:20240308T205741Z
LAST-MODIFIED:20240308T205741Z
UID:4952-1709712000-1709730000@www.wvgearup.org
SUMMARY:Southern Community College Field Trip
DESCRIPTION:Chapmanville Middle School
URL:https://www.wvgearup.org/event/southern-community-college-field-trip/
END:VEVENT
BEGIN:VEVENT
DTSTART;TZID=America/New_York:20240306T080000
DTEND;TZID=America/New_York:20240306T160000
DTSTAMP:20260420T013058
CREATED:20240222T190717Z
LAST-MODIFIED:20240222T190717Z
UID:4814-1709712000-1709740800@www.wvgearup.org
SUMMARY:FAFSA/Scholarship Workshop
DESCRIPTION:Tolsia High School
URL:https://www.wvgearup.org/event/fafsa-scholarship-workshop-2/
END:VEVENT
BEGIN:VEVENT
DTSTART;TZID=America/New_York:20240306T173000
DTEND;TZID=America/New_York:20240306T193000
DTSTAMP:20260420T013058
CREATED:20240131T184436Z
LAST-MODIFIED:20240131T184436Z
UID:4740-1709746200-1709753400@www.wvgearup.org
SUMMARY:FAFSA Completion Workshop
DESCRIPTION:Hannan Junior/Senior High School
URL:https://www.wvgearup.org/event/fafsa-completion-workshop-12/
END:VEVENT
END:VCALENDAR