BEGIN:VCALENDAR
VERSION:2.0
PRODID:-//West Virginia Gear Up - ECPv6.15.11//NONSGML v1.0//EN
CALSCALE:GREGORIAN
METHOD:PUBLISH
X-WR-CALNAME:West Virginia Gear Up
X-ORIGINAL-URL:https://www.wvgearup.org
X-WR-CALDESC:Events for West Virginia Gear Up
REFRESH-INTERVAL;VALUE=DURATION:PT1H
X-Robots-Tag:noindex
X-PUBLISHED-TTL:PT1H
BEGIN:VTIMEZONE
TZID:America/New_York
BEGIN:DAYLIGHT
TZOFFSETFROM:-0500
TZOFFSETTO:-0400
TZNAME:EDT
DTSTART:20230312T070000
END:DAYLIGHT
BEGIN:STANDARD
TZOFFSETFROM:-0400
TZOFFSETTO:-0500
TZNAME:EST
DTSTART:20231105T060000
END:STANDARD
BEGIN:DAYLIGHT
TZOFFSETFROM:-0500
TZOFFSETTO:-0400
TZNAME:EDT
DTSTART:20240310T070000
END:DAYLIGHT
BEGIN:STANDARD
TZOFFSETFROM:-0400
TZOFFSETTO:-0500
TZNAME:EST
DTSTART:20241103T060000
END:STANDARD
BEGIN:DAYLIGHT
TZOFFSETFROM:-0500
TZOFFSETTO:-0400
TZNAME:EDT
DTSTART:20250309T070000
END:DAYLIGHT
BEGIN:STANDARD
TZOFFSETFROM:-0400
TZOFFSETTO:-0500
TZNAME:EST
DTSTART:20251102T060000
END:STANDARD
END:VTIMEZONE
BEGIN:VEVENT
DTSTART;TZID=America/New_York:20240228T084500
DTEND;TZID=America/New_York:20240228T170000
DTSTAMP:20260420T013057
CREATED:20240212T190151Z
LAST-MODIFIED:20240212T205553Z
UID:4743-1709109900-1709139600@www.wvgearup.org
SUMMARY:9th grade In-State College Campus Visit
DESCRIPTION:Hannan Junior/Senior High School
URL:https://www.wvgearup.org/event/9th-grade-in-state-college-campus-visit/
END:VEVENT
BEGIN:VEVENT
DTSTART;TZID=America/New_York:20240228T090000
DTEND;TZID=America/New_York:20240228T123000
DTSTAMP:20260420T013057
CREATED:20240222T191314Z
LAST-MODIFIED:20240222T191314Z
UID:4822-1709110800-1709123400@www.wvgearup.org
SUMMARY:Invest In Your Future
DESCRIPTION:Van Junior/Senior High School
URL:https://www.wvgearup.org/event/invest-in-your-future-2/
END:VEVENT
BEGIN:VEVENT
DTSTART;TZID=America/New_York:20240228T090000
DTEND;TZID=America/New_York:20240228T123000
DTSTAMP:20260420T013057
CREATED:20240301T201339Z
LAST-MODIFIED:20240301T201339Z
UID:4916-1709110800-1709123400@www.wvgearup.org
SUMMARY:GEAR UP Invest in Your Future Day
DESCRIPTION:Chapmanville Regional High School
URL:https://www.wvgearup.org/event/gear-up-invest-in-your-future-day/
END:VEVENT
BEGIN:VEVENT
DTSTART;TZID=America/New_York:20240228T090000
DTEND;TZID=America/New_York:20240228T130000
DTSTAMP:20260420T013057
CREATED:20240214T211446Z
LAST-MODIFIED:20240214T211446Z
UID:4800-1709110800-1709125200@www.wvgearup.org
SUMMARY:Campus Visit
DESCRIPTION:Duval PK-8
URL:https://www.wvgearup.org/event/campus-visit-2/
END:VEVENT
END:VCALENDAR