BEGIN:VCALENDAR
VERSION:2.0
PRODID:-//West Virginia Gear Up - ECPv6.15.11//NONSGML v1.0//EN
CALSCALE:GREGORIAN
METHOD:PUBLISH
X-WR-CALNAME:West Virginia Gear Up
X-ORIGINAL-URL:https://www.wvgearup.org
X-WR-CALDESC:Events for West Virginia Gear Up
REFRESH-INTERVAL;VALUE=DURATION:PT1H
X-Robots-Tag:noindex
X-PUBLISHED-TTL:PT1H
BEGIN:VTIMEZONE
TZID:America/New_York
BEGIN:DAYLIGHT
TZOFFSETFROM:-0500
TZOFFSETTO:-0400
TZNAME:EDT
DTSTART:20230312T070000
END:DAYLIGHT
BEGIN:STANDARD
TZOFFSETFROM:-0400
TZOFFSETTO:-0500
TZNAME:EST
DTSTART:20231105T060000
END:STANDARD
BEGIN:DAYLIGHT
TZOFFSETFROM:-0500
TZOFFSETTO:-0400
TZNAME:EDT
DTSTART:20240310T070000
END:DAYLIGHT
BEGIN:STANDARD
TZOFFSETFROM:-0400
TZOFFSETTO:-0500
TZNAME:EST
DTSTART:20241103T060000
END:STANDARD
BEGIN:DAYLIGHT
TZOFFSETFROM:-0500
TZOFFSETTO:-0400
TZNAME:EDT
DTSTART:20250309T070000
END:DAYLIGHT
BEGIN:STANDARD
TZOFFSETFROM:-0400
TZOFFSETTO:-0500
TZNAME:EST
DTSTART:20251102T060000
END:STANDARD
END:VTIMEZONE
BEGIN:VEVENT
DTSTART;TZID=America/New_York:20240227T090000
DTEND;TZID=America/New_York:20240227T123000
DTSTAMP:20260420T013128
CREATED:20240213T210132Z
LAST-MODIFIED:20240213T210132Z
UID:4745-1709024400-1709037000@www.wvgearup.org
SUMMARY:Invest in Your Future
DESCRIPTION:Man Senior High School
URL:https://www.wvgearup.org/event/invest-in-your-future/
END:VEVENT
BEGIN:VEVENT
DTSTART;TZID=America/New_York:20240227T090000
DTEND;TZID=America/New_York:20240227T123000
DTSTAMP:20260420T013128
CREATED:20240222T191228Z
LAST-MODIFIED:20240222T191228Z
UID:4820-1709024400-1709037000@www.wvgearup.org
SUMMARY:Invest in Your Future Day at SWCTC Logan Campus
DESCRIPTION:Mingo Central Comprehensive High School
URL:https://www.wvgearup.org/event/invest-in-your-future-day-at-swctc-logan-campus/
END:VEVENT
BEGIN:VEVENT
DTSTART;TZID=America/New_York:20240227T090000
DTEND;TZID=America/New_York:20240227T130000
DTSTAMP:20260420T013128
CREATED:20240222T191504Z
LAST-MODIFIED:20240222T191504Z
UID:4826-1709024400-1709038800@www.wvgearup.org
SUMMARY:Regional: Invest In Your Future
DESCRIPTION:Tug Valley High School
URL:https://www.wvgearup.org/event/regional-invest-in-your-future/
END:VEVENT
BEGIN:VEVENT
DTSTART;TZID=America/New_York:20240227T120000
DTEND;TZID=America/New_York:20240227T180000
DTSTAMP:20260420T013128
CREATED:20240214T162425Z
LAST-MODIFIED:20240214T162425Z
UID:4767-1709035200-1709056800@www.wvgearup.org
SUMMARY:FAFSA Workshop
DESCRIPTION:Tug Valley High School
URL:https://www.wvgearup.org/event/fafsa-workshop-29/
END:VEVENT
END:VCALENDAR