BEGIN:VCALENDAR
VERSION:2.0
PRODID:-//West Virginia Gear Up - ECPv6.15.11//NONSGML v1.0//EN
CALSCALE:GREGORIAN
METHOD:PUBLISH
X-WR-CALNAME:West Virginia Gear Up
X-ORIGINAL-URL:https://www.wvgearup.org
X-WR-CALDESC:Events for West Virginia Gear Up
REFRESH-INTERVAL;VALUE=DURATION:PT1H
X-Robots-Tag:noindex
X-PUBLISHED-TTL:PT1H
BEGIN:VTIMEZONE
TZID:America/New_York
BEGIN:DAYLIGHT
TZOFFSETFROM:-0500
TZOFFSETTO:-0400
TZNAME:EDT
DTSTART:20230312T070000
END:DAYLIGHT
BEGIN:STANDARD
TZOFFSETFROM:-0400
TZOFFSETTO:-0500
TZNAME:EST
DTSTART:20231105T060000
END:STANDARD
BEGIN:DAYLIGHT
TZOFFSETFROM:-0500
TZOFFSETTO:-0400
TZNAME:EDT
DTSTART:20240310T070000
END:DAYLIGHT
BEGIN:STANDARD
TZOFFSETFROM:-0400
TZOFFSETTO:-0500
TZNAME:EST
DTSTART:20241103T060000
END:STANDARD
BEGIN:DAYLIGHT
TZOFFSETFROM:-0500
TZOFFSETTO:-0400
TZNAME:EDT
DTSTART:20250309T070000
END:DAYLIGHT
BEGIN:STANDARD
TZOFFSETFROM:-0400
TZOFFSETTO:-0500
TZNAME:EST
DTSTART:20251102T060000
END:STANDARD
END:VTIMEZONE
BEGIN:VEVENT
DTSTART;TZID=America/New_York:20240222T123000
DTEND;TZID=America/New_York:20240222T153000
DTSTAMP:20260420T024442
CREATED:20240131T184336Z
LAST-MODIFIED:20240131T184336Z
UID:4738-1708605000-1708615800@www.wvgearup.org
SUMMARY:LCHS 9th grade Career Awareness Fair
DESCRIPTION:Lincoln County High School
URL:https://www.wvgearup.org/event/lchs-9th-grade-career-awareness-fair/
END:VEVENT
BEGIN:VEVENT
DTSTART;TZID=America/New_York:20240222T160000
DTEND;TZID=America/New_York:20240222T180000
DTSTAMP:20260420T024442
CREATED:20240301T195921Z
LAST-MODIFIED:20240301T195921Z
UID:4904-1708617600-1708624800@www.wvgearup.org
SUMMARY:Financial Aid Workshop
DESCRIPTION:Logan Senior High School
URL:https://www.wvgearup.org/event/financial-aid-workshop-5/
END:VEVENT
BEGIN:VEVENT
DTSTART;TZID=America/New_York:20240222T160000
DTEND;TZID=America/New_York:20240222T190000
DTSTAMP:20260420T024442
CREATED:20240119T153752Z
LAST-MODIFIED:20240119T153752Z
UID:4719-1708617600-1708628400@www.wvgearup.org
SUMMARY:FAFSA completion workshop
DESCRIPTION:Lincoln County High School
URL:https://www.wvgearup.org/event/fafsa-completion-workshop-10/
END:VEVENT
END:VCALENDAR