BEGIN:VCALENDAR
VERSION:2.0
PRODID:-//West Virginia Gear Up - ECPv6.15.11//NONSGML v1.0//EN
CALSCALE:GREGORIAN
METHOD:PUBLISH
X-WR-CALNAME:West Virginia Gear Up
X-ORIGINAL-URL:https://www.wvgearup.org
X-WR-CALDESC:Events for West Virginia Gear Up
REFRESH-INTERVAL;VALUE=DURATION:PT1H
X-Robots-Tag:noindex
X-PUBLISHED-TTL:PT1H
BEGIN:VTIMEZONE
TZID:America/New_York
BEGIN:DAYLIGHT
TZOFFSETFROM:-0500
TZOFFSETTO:-0400
TZNAME:EDT
DTSTART:20230312T070000
END:DAYLIGHT
BEGIN:STANDARD
TZOFFSETFROM:-0400
TZOFFSETTO:-0500
TZNAME:EST
DTSTART:20231105T060000
END:STANDARD
BEGIN:DAYLIGHT
TZOFFSETFROM:-0500
TZOFFSETTO:-0400
TZNAME:EDT
DTSTART:20240310T070000
END:DAYLIGHT
BEGIN:STANDARD
TZOFFSETFROM:-0400
TZOFFSETTO:-0500
TZNAME:EST
DTSTART:20241103T060000
END:STANDARD
BEGIN:DAYLIGHT
TZOFFSETFROM:-0500
TZOFFSETTO:-0400
TZNAME:EDT
DTSTART:20250309T070000
END:DAYLIGHT
BEGIN:STANDARD
TZOFFSETFROM:-0400
TZOFFSETTO:-0500
TZNAME:EST
DTSTART:20251102T060000
END:STANDARD
END:VTIMEZONE
BEGIN:VEVENT
DTSTART;TZID=America/New_York:20240213T083000
DTEND;TZID=America/New_York:20240213T120000
DTSTAMP:20260420T024523
CREATED:20240214T162016Z
LAST-MODIFIED:20240214T162016Z
UID:4759-1707813000-1707825600@www.wvgearup.org
SUMMARY:Mingo Central 8th Grade Transition-Student Visit
DESCRIPTION:Matewan PK-8
URL:https://www.wvgearup.org/event/mingo-central-8th-grade-transition-student-visit/
END:VEVENT
BEGIN:VEVENT
DTSTART;TZID=America/New_York:20240213T083000
DTEND;TZID=America/New_York:20240213T153000
DTSTAMP:20260420T024523
CREATED:20240119T153452Z
LAST-MODIFIED:20240119T153452Z
UID:4710-1707813000-1707838200@www.wvgearup.org
SUMMARY:FAFSA Workshop
DESCRIPTION:Point Pleasant Junior/Senior High School
URL:https://www.wvgearup.org/event/fafsa-workshop-28/
END:VEVENT
BEGIN:VEVENT
DTSTART;TZID=America/New_York:20240213T150000
DTEND;TZID=America/New_York:20240213T183000
DTSTAMP:20260420T024523
CREATED:20240213T212037Z
LAST-MODIFIED:20240213T212037Z
UID:4755-1707836400-1707849000@www.wvgearup.org
SUMMARY:Chapmanville Regional FAFSA Night #1
DESCRIPTION:Chapmanville Regional High School
URL:https://www.wvgearup.org/event/chapmanville-regional-fafsa-night-1/
END:VEVENT
BEGIN:VEVENT
DTSTART;TZID=America/New_York:20240213T180000
DTEND;TZID=America/New_York:20240213T190000
DTSTAMP:20260420T024523
CREATED:20231221T143438Z
LAST-MODIFIED:20240202T191917Z
UID:4653-1707847200-1707850800@www.wvgearup.org
SUMMARY:Logan Middle School 8th Grade Transition Student/Parent Workshop
DESCRIPTION:Logan Middle School
URL:https://www.wvgearup.org/event/logan-middle-school-8th-grade-transition-student-parent-workshop/
END:VEVENT
END:VCALENDAR