BEGIN:VCALENDAR
VERSION:2.0
PRODID:-//West Virginia Gear Up - ECPv6.15.11//NONSGML v1.0//EN
CALSCALE:GREGORIAN
METHOD:PUBLISH
X-ORIGINAL-URL:https://www.wvgearup.org
X-WR-CALDESC:Events for West Virginia Gear Up
REFRESH-INTERVAL;VALUE=DURATION:PT1H
X-Robots-Tag:noindex
X-PUBLISHED-TTL:PT1H
BEGIN:VTIMEZONE
TZID:America/New_York
BEGIN:DAYLIGHT
TZOFFSETFROM:-0500
TZOFFSETTO:-0400
TZNAME:EDT
DTSTART:20230312T070000
END:DAYLIGHT
BEGIN:STANDARD
TZOFFSETFROM:-0400
TZOFFSETTO:-0500
TZNAME:EST
DTSTART:20231105T060000
END:STANDARD
BEGIN:DAYLIGHT
TZOFFSETFROM:-0500
TZOFFSETTO:-0400
TZNAME:EDT
DTSTART:20240310T070000
END:DAYLIGHT
BEGIN:STANDARD
TZOFFSETFROM:-0400
TZOFFSETTO:-0500
TZNAME:EST
DTSTART:20241103T060000
END:STANDARD
BEGIN:DAYLIGHT
TZOFFSETFROM:-0500
TZOFFSETTO:-0400
TZNAME:EDT
DTSTART:20250309T070000
END:DAYLIGHT
BEGIN:STANDARD
TZOFFSETFROM:-0400
TZOFFSETTO:-0500
TZNAME:EST
DTSTART:20251102T060000
END:STANDARD
END:VTIMEZONE
BEGIN:VEVENT
DTSTART;TZID=America/New_York:20240201T073000
DTEND;TZID=America/New_York:20240201T143000
DTSTAMP:20260420T024620
CREATED:20240116T182557Z
LAST-MODIFIED:20240116T182557Z
UID:4680-1706772600-1706797800@www.wvgearup.org
SUMMARY:WV FAFSA Day Workshop/Invests/Promise
DESCRIPTION:Man Senior High School
URL:https://www.wvgearup.org/event/wv-fafsa-day-workshop-invests-promise/
END:VEVENT
BEGIN:VEVENT
DTSTART;TZID=America/New_York:20240201T080000
DTEND;TZID=America/New_York:20240201T120000
DTSTAMP:20260420T024620
CREATED:20240214T162754Z
LAST-MODIFIED:20240214T162754Z
UID:4775-1706774400-1706788800@www.wvgearup.org
SUMMARY:Reality Store
DESCRIPTION:Ceredo-Kenova Middle School
URL:https://www.wvgearup.org/event/reality-store-7/
END:VEVENT
BEGIN:VEVENT
DTSTART;TZID=America/New_York:20240201T080000
DTEND;TZID=America/New_York:20240201T143000
DTSTAMP:20260420T024620
CREATED:20240116T182647Z
LAST-MODIFIED:20240116T182647Z
UID:4682-1706774400-1706797800@www.wvgearup.org
SUMMARY:WV FAFSA DAY
DESCRIPTION:Mingo Central Comprehensive High School
URL:https://www.wvgearup.org/event/wv-fafsa-day/
END:VEVENT
BEGIN:VEVENT
DTSTART;TZID=America/New_York:20240201T080000
DTEND;TZID=America/New_York:20240201T150000
DTSTAMP:20260420T024620
CREATED:20240131T184241Z
LAST-MODIFIED:20240131T184241Z
UID:4736-1706774400-1706799600@www.wvgearup.org
SUMMARY:FAFSA DAY 2024
DESCRIPTION:Spring Valley High School
URL:https://www.wvgearup.org/event/fafsa-day-2024/
END:VEVENT
BEGIN:VEVENT
DTSTART;TZID=America/New_York:20240201T080000
DTEND;TZID=America/New_York:20240201T153000
DTSTAMP:20260420T024620
CREATED:20240214T193328Z
LAST-MODIFIED:20240214T193328Z
UID:4785-1706774400-1706801400@www.wvgearup.org
SUMMARY:FAFSA ID Workshop
DESCRIPTION:Tolsia High School
URL:https://www.wvgearup.org/event/fafsa-id-workshop/
END:VEVENT
BEGIN:VEVENT
DTSTART;TZID=America/New_York:20240201T083000
DTEND;TZID=America/New_York:20240201T153000
DTSTAMP:20260420T024620
CREATED:20240119T153533Z
LAST-MODIFIED:20240119T153533Z
UID:4713-1706776200-1706801400@www.wvgearup.org
SUMMARY:FAFSA Day Workshop
DESCRIPTION:Point Pleasant Junior/Senior High School
URL:https://www.wvgearup.org/event/fafsa-day-workshop/
END:VEVENT
END:VCALENDAR