BEGIN:VCALENDAR
VERSION:2.0
PRODID:-//West Virginia Gear Up - ECPv6.15.11//NONSGML v1.0//EN
CALSCALE:GREGORIAN
METHOD:PUBLISH
X-ORIGINAL-URL:https://www.wvgearup.org
X-WR-CALDESC:Events for West Virginia Gear Up
REFRESH-INTERVAL;VALUE=DURATION:PT1H
X-Robots-Tag:noindex
X-PUBLISHED-TTL:PT1H
BEGIN:VTIMEZONE
TZID:America/New_York
BEGIN:DAYLIGHT
TZOFFSETFROM:-0500
TZOFFSETTO:-0400
TZNAME:EDT
DTSTART:20220313T070000
END:DAYLIGHT
BEGIN:STANDARD
TZOFFSETFROM:-0400
TZOFFSETTO:-0500
TZNAME:EST
DTSTART:20221106T060000
END:STANDARD
BEGIN:DAYLIGHT
TZOFFSETFROM:-0500
TZOFFSETTO:-0400
TZNAME:EDT
DTSTART:20230312T070000
END:DAYLIGHT
BEGIN:STANDARD
TZOFFSETFROM:-0400
TZOFFSETTO:-0500
TZNAME:EST
DTSTART:20231105T060000
END:STANDARD
BEGIN:DAYLIGHT
TZOFFSETFROM:-0500
TZOFFSETTO:-0400
TZNAME:EDT
DTSTART:20240310T070000
END:DAYLIGHT
BEGIN:STANDARD
TZOFFSETFROM:-0400
TZOFFSETTO:-0500
TZNAME:EST
DTSTART:20241103T060000
END:STANDARD
END:VTIMEZONE
BEGIN:VEVENT
DTSTART;TZID=America/New_York:20231128T080000
DTEND;TZID=America/New_York:20231128T150000
DTSTAMP:20260420T053420
CREATED:20231019T202642Z
LAST-MODIFIED:20231019T202642Z
UID:4437-1701158400-1701183600@www.wvgearup.org
SUMMARY:Mountwest\, RCBI\, St. Mary's College Visit
DESCRIPTION:Tolsia High School
URL:https://www.wvgearup.org/event/mountwest-rcbi-st-marys-college-visit/
END:VEVENT
BEGIN:VEVENT
DTSTART;TZID=America/New_York:20231128T160000
DTEND;TZID=America/New_York:20231128T190000
DTSTAMP:20260420T053420
CREATED:20231128T211827Z
LAST-MODIFIED:20231128T211827Z
UID:4578-1701187200-1701198000@www.wvgearup.org
SUMMARY:Financial Aid 101/FSA ID Workshop
DESCRIPTION:Lincoln County High School
URL:https://www.wvgearup.org/event/financial-aid-101-fsa-id-workshop/
END:VEVENT
END:VCALENDAR