BEGIN:VCALENDAR
VERSION:2.0
PRODID:-//West Virginia Gear Up - ECPv6.15.11//NONSGML v1.0//EN
CALSCALE:GREGORIAN
METHOD:PUBLISH
X-ORIGINAL-URL:https://www.wvgearup.org
X-WR-CALDESC:Events for West Virginia Gear Up
REFRESH-INTERVAL;VALUE=DURATION:PT1H
X-Robots-Tag:noindex
X-PUBLISHED-TTL:PT1H
BEGIN:VTIMEZONE
TZID:America/New_York
BEGIN:DAYLIGHT
TZOFFSETFROM:-0500
TZOFFSETTO:-0400
TZNAME:EDT
DTSTART:20220313T070000
END:DAYLIGHT
BEGIN:STANDARD
TZOFFSETFROM:-0400
TZOFFSETTO:-0500
TZNAME:EST
DTSTART:20221106T060000
END:STANDARD
BEGIN:DAYLIGHT
TZOFFSETFROM:-0500
TZOFFSETTO:-0400
TZNAME:EDT
DTSTART:20230312T070000
END:DAYLIGHT
BEGIN:STANDARD
TZOFFSETFROM:-0400
TZOFFSETTO:-0500
TZNAME:EST
DTSTART:20231105T060000
END:STANDARD
BEGIN:DAYLIGHT
TZOFFSETFROM:-0500
TZOFFSETTO:-0400
TZNAME:EDT
DTSTART:20240310T070000
END:DAYLIGHT
BEGIN:STANDARD
TZOFFSETFROM:-0400
TZOFFSETTO:-0500
TZNAME:EST
DTSTART:20241103T060000
END:STANDARD
END:VTIMEZONE
BEGIN:VEVENT
DTSTART;TZID=America/New_York:20231127T123500
DTEND;TZID=America/New_York:20231127T133000
DTSTAMP:20260420T053418
CREATED:20231128T211757Z
LAST-MODIFIED:20231128T211757Z
UID:4576-1701088500-1701091800@www.wvgearup.org
SUMMARY:Student Financial Aid Workshop
DESCRIPTION:Lincoln County High School
URL:https://www.wvgearup.org/event/student-financial-aid-workshop/
END:VEVENT
BEGIN:VEVENT
DTSTART;TZID=America/New_York:20231127T173000
DTEND;TZID=America/New_York:20231127T193000
DTSTAMP:20260420T053418
CREATED:20231128T212104Z
LAST-MODIFIED:20231128T212104Z
UID:4584-1701106200-1701113400@www.wvgearup.org
SUMMARY:FSA ID Workshop
DESCRIPTION:Man Senior High School
URL:https://www.wvgearup.org/event/fsa-id-workshop-2/
END:VEVENT
END:VCALENDAR