BEGIN:VCALENDAR
VERSION:2.0
PRODID:-//West Virginia Gear Up - ECPv6.15.11//NONSGML v1.0//EN
CALSCALE:GREGORIAN
METHOD:PUBLISH
X-WR-CALNAME:West Virginia Gear Up
X-ORIGINAL-URL:https://www.wvgearup.org
X-WR-CALDESC:Events for West Virginia Gear Up
REFRESH-INTERVAL;VALUE=DURATION:PT1H
X-Robots-Tag:noindex
X-PUBLISHED-TTL:PT1H
BEGIN:VTIMEZONE
TZID:America/New_York
BEGIN:DAYLIGHT
TZOFFSETFROM:-0500
TZOFFSETTO:-0400
TZNAME:EDT
DTSTART:20220313T070000
END:DAYLIGHT
BEGIN:STANDARD
TZOFFSETFROM:-0400
TZOFFSETTO:-0500
TZNAME:EST
DTSTART:20221106T060000
END:STANDARD
BEGIN:DAYLIGHT
TZOFFSETFROM:-0500
TZOFFSETTO:-0400
TZNAME:EDT
DTSTART:20230312T070000
END:DAYLIGHT
BEGIN:STANDARD
TZOFFSETFROM:-0400
TZOFFSETTO:-0500
TZNAME:EST
DTSTART:20231105T060000
END:STANDARD
BEGIN:DAYLIGHT
TZOFFSETFROM:-0500
TZOFFSETTO:-0400
TZNAME:EDT
DTSTART:20240310T070000
END:DAYLIGHT
BEGIN:STANDARD
TZOFFSETFROM:-0400
TZOFFSETTO:-0500
TZNAME:EST
DTSTART:20241103T060000
END:STANDARD
END:VTIMEZONE
BEGIN:VEVENT
DTSTART;TZID=America/New_York:20231116T080000
DTEND;TZID=America/New_York:20231116T140000
DTSTAMP:20260420T070518
CREATED:20231108T172625Z
LAST-MODIFIED:20231108T172635Z
UID:4545-1700121600-1700143200@www.wvgearup.org
SUMMARY:College Visit
DESCRIPTION:Mingo Central Comprehensive High School
URL:https://www.wvgearup.org/event/college-visit-12/
END:VEVENT
BEGIN:VEVENT
DTSTART;TZID=America/New_York:20231116T080000
DTEND;TZID=America/New_York:20231116T140000
DTSTAMP:20260420T070518
CREATED:20231109T202150Z
LAST-MODIFIED:20231109T202150Z
UID:4553-1700121600-1700143200@www.wvgearup.org
SUMMARY:College Visit
DESCRIPTION:Mingo Central Comprehensive High School
URL:https://www.wvgearup.org/event/college-visit-15/
END:VEVENT
BEGIN:VEVENT
DTSTART;TZID=America/New_York:20231116T080000
DTEND;TZID=America/New_York:20231116T150000
DTSTAMP:20260420T070518
CREATED:20231025T201350Z
LAST-MODIFIED:20231025T201350Z
UID:4478-1700121600-1700146800@www.wvgearup.org
SUMMARY:CSI: Huntington @ Marshall
DESCRIPTION:Tolsia High School
URL:https://www.wvgearup.org/event/csi-huntington-marshall/
END:VEVENT
BEGIN:VEVENT
DTSTART;TZID=America/New_York:20231116T093000
DTEND;TZID=America/New_York:20231116T130000
DTSTAMP:20260420T070518
CREATED:20231025T201309Z
LAST-MODIFIED:20231025T201309Z
UID:4476-1700127000-1700139600@www.wvgearup.org
SUMMARY:LCHS 9th grade to Bill Noe Flight School
DESCRIPTION:Lincoln County High School
URL:https://www.wvgearup.org/event/lchs-9th-grade-to-bill-noe-flight-school/
END:VEVENT
END:VCALENDAR