BEGIN:VCALENDAR
VERSION:2.0
PRODID:-//West Virginia Gear Up - ECPv6.15.11//NONSGML v1.0//EN
CALSCALE:GREGORIAN
METHOD:PUBLISH
X-ORIGINAL-URL:https://www.wvgearup.org
X-WR-CALDESC:Events for West Virginia Gear Up
REFRESH-INTERVAL;VALUE=DURATION:PT1H
X-Robots-Tag:noindex
X-PUBLISHED-TTL:PT1H
BEGIN:VTIMEZONE
TZID:America/New_York
BEGIN:DAYLIGHT
TZOFFSETFROM:-0500
TZOFFSETTO:-0400
TZNAME:EDT
DTSTART:20220313T070000
END:DAYLIGHT
BEGIN:STANDARD
TZOFFSETFROM:-0400
TZOFFSETTO:-0500
TZNAME:EST
DTSTART:20221106T060000
END:STANDARD
BEGIN:DAYLIGHT
TZOFFSETFROM:-0500
TZOFFSETTO:-0400
TZNAME:EDT
DTSTART:20230312T070000
END:DAYLIGHT
BEGIN:STANDARD
TZOFFSETFROM:-0400
TZOFFSETTO:-0500
TZNAME:EST
DTSTART:20231105T060000
END:STANDARD
BEGIN:DAYLIGHT
TZOFFSETFROM:-0500
TZOFFSETTO:-0400
TZNAME:EDT
DTSTART:20240310T070000
END:DAYLIGHT
BEGIN:STANDARD
TZOFFSETFROM:-0400
TZOFFSETTO:-0500
TZNAME:EST
DTSTART:20241103T060000
END:STANDARD
END:VTIMEZONE
BEGIN:VEVENT
DTSTART;TZID=America/New_York:20231115T080000
DTEND;TZID=America/New_York:20231115T143000
DTSTAMP:20260420T070600
CREATED:20231107T204956Z
LAST-MODIFIED:20231107T205036Z
UID:4515-1700035200-1700058600@www.wvgearup.org
SUMMARY:College Visit to Concord
DESCRIPTION:Man Middle School
URL:https://www.wvgearup.org/event/college-visit-to-concord/
END:VEVENT
BEGIN:VEVENT
DTSTART;TZID=America/New_York:20231115T090000
DTEND;TZID=America/New_York:20231115T140000
DTSTAMP:20260420T070600
CREATED:20231019T201929Z
LAST-MODIFIED:20231019T201929Z
UID:4429-1700038800-1700056800@www.wvgearup.org
SUMMARY:SWVCTC Logan Campus Tour
DESCRIPTION:Lenore PK-8
URL:https://www.wvgearup.org/event/swvctc-logan-campus-tour/
END:VEVENT
BEGIN:VEVENT
DTSTART;TZID=America/New_York:20231115T100000
DTEND;TZID=America/New_York:20231115T120000
DTSTAMP:20260420T070600
CREATED:20231026T161424Z
LAST-MODIFIED:20231026T161424Z
UID:4488-1700042400-1700049600@www.wvgearup.org
SUMMARY:Glenville State University Touring Field Trip
DESCRIPTION:Hannan Junior/Senior High School
URL:https://www.wvgearup.org/event/glenville-state-university-touring-field-trip/
END:VEVENT
END:VCALENDAR