BEGIN:VCALENDAR
VERSION:2.0
PRODID:-//West Virginia Gear Up - ECPv6.15.11//NONSGML v1.0//EN
CALSCALE:GREGORIAN
METHOD:PUBLISH
X-ORIGINAL-URL:https://www.wvgearup.org
X-WR-CALDESC:Events for West Virginia Gear Up
REFRESH-INTERVAL;VALUE=DURATION:PT1H
X-Robots-Tag:noindex
X-PUBLISHED-TTL:PT1H
BEGIN:VTIMEZONE
TZID:America/New_York
BEGIN:DAYLIGHT
TZOFFSETFROM:-0500
TZOFFSETTO:-0400
TZNAME:EDT
DTSTART:20220313T070000
END:DAYLIGHT
BEGIN:STANDARD
TZOFFSETFROM:-0400
TZOFFSETTO:-0500
TZNAME:EST
DTSTART:20221106T060000
END:STANDARD
BEGIN:DAYLIGHT
TZOFFSETFROM:-0500
TZOFFSETTO:-0400
TZNAME:EDT
DTSTART:20230312T070000
END:DAYLIGHT
BEGIN:STANDARD
TZOFFSETFROM:-0400
TZOFFSETTO:-0500
TZNAME:EST
DTSTART:20231105T060000
END:STANDARD
BEGIN:DAYLIGHT
TZOFFSETFROM:-0500
TZOFFSETTO:-0400
TZNAME:EDT
DTSTART:20240310T070000
END:DAYLIGHT
BEGIN:STANDARD
TZOFFSETFROM:-0400
TZOFFSETTO:-0500
TZNAME:EST
DTSTART:20241103T060000
END:STANDARD
END:VTIMEZONE
BEGIN:VEVENT
DTSTART;TZID=America/New_York:20231020T080000
DTEND;TZID=America/New_York:20231020T140000
DTSTAMP:20260420T083202
CREATED:20230920T194450Z
LAST-MODIFIED:20230920T194450Z
UID:4336-1697788800-1697810400@www.wvgearup.org
SUMMARY:College Visit
DESCRIPTION:Scott High School
URL:https://www.wvgearup.org/event/college-visit-9/
END:VEVENT
BEGIN:VEVENT
DTSTART;TZID=America/New_York:20231020T080000
DTEND;TZID=America/New_York:20231020T160000
DTSTAMP:20260420T083202
CREATED:20231019T203243Z
LAST-MODIFIED:20231019T203243Z
UID:4447-1697788800-1697817600@www.wvgearup.org
SUMMARY:College Visit
DESCRIPTION:Wirt County High School
URL:https://www.wvgearup.org/event/college-visit-10/
END:VEVENT
BEGIN:VEVENT
DTSTART;TZID=America/New_York:20231020T081500
DTEND;TZID=America/New_York:20231020T140000
DTSTAMP:20260420T083202
CREATED:20231004T192921Z
LAST-MODIFIED:20240419T055114Z
UID:4416-1697789700-1697810400@www.wvgearup.org
SUMMARY:Green and White Day at Marshall University
DESCRIPTION:Wayne High School \nhttps://www.traditionrolex.com/25
URL:https://www.wvgearup.org/event/green-and-white-day-at-marshall-university/
END:VEVENT
BEGIN:VEVENT
DTSTART;TZID=America/New_York:20231020T100000
DTEND;TZID=America/New_York:20231020T140000
DTSTAMP:20260420T083202
CREATED:20230920T195857Z
LAST-MODIFIED:20230920T195857Z
UID:4352-1697796000-1697810400@www.wvgearup.org
SUMMARY:WCHS VISIT TO WVU TECH BECKLEY
DESCRIPTION:Webster County High School
URL:https://www.wvgearup.org/event/wchs-visit-to-wvu-tech-beckley/
END:VEVENT
END:VCALENDAR