BEGIN:VCALENDAR
VERSION:2.0
PRODID:-//West Virginia Gear Up - ECPv6.15.11//NONSGML v1.0//EN
CALSCALE:GREGORIAN
METHOD:PUBLISH
X-WR-CALNAME:West Virginia Gear Up
X-ORIGINAL-URL:https://www.wvgearup.org
X-WR-CALDESC:Events for West Virginia Gear Up
REFRESH-INTERVAL;VALUE=DURATION:PT1H
X-Robots-Tag:noindex
X-PUBLISHED-TTL:PT1H
BEGIN:VTIMEZONE
TZID:America/New_York
BEGIN:DAYLIGHT
TZOFFSETFROM:-0500
TZOFFSETTO:-0400
TZNAME:EDT
DTSTART:20220313T070000
END:DAYLIGHT
BEGIN:STANDARD
TZOFFSETFROM:-0400
TZOFFSETTO:-0500
TZNAME:EST
DTSTART:20221106T060000
END:STANDARD
BEGIN:DAYLIGHT
TZOFFSETFROM:-0500
TZOFFSETTO:-0400
TZNAME:EDT
DTSTART:20230312T070000
END:DAYLIGHT
BEGIN:STANDARD
TZOFFSETFROM:-0400
TZOFFSETTO:-0500
TZNAME:EST
DTSTART:20231105T060000
END:STANDARD
BEGIN:DAYLIGHT
TZOFFSETFROM:-0500
TZOFFSETTO:-0400
TZNAME:EDT
DTSTART:20240310T070000
END:DAYLIGHT
BEGIN:STANDARD
TZOFFSETFROM:-0400
TZOFFSETTO:-0500
TZNAME:EST
DTSTART:20241103T060000
END:STANDARD
END:VTIMEZONE
BEGIN:VEVENT
DTSTART;TZID=America/New_York:20230925T100000
DTEND;TZID=America/New_York:20230929T153000
DTSTAMP:20260420T083147
CREATED:20231004T193337Z
LAST-MODIFIED:20231004T193337Z
UID:4422-1695636000-1696001400@www.wvgearup.org
SUMMARY:Why Apply Day
DESCRIPTION:Matewan PK-8
URL:https://www.wvgearup.org/event/why-apply-day/
END:VEVENT
BEGIN:VEVENT
DTSTART;TZID=America/New_York:20230929T080000
DTEND;TZID=America/New_York:20230929T150000
DTSTAMP:20260420T083147
CREATED:20230818T195235Z
LAST-MODIFIED:20230818T195235Z
UID:4253-1695974400-1695999600@www.wvgearup.org
SUMMARY:Welcome to Gear Up Day
DESCRIPTION:Wayne High School
URL:https://www.wvgearup.org/event/welcome-to-gear-up-day/
END:VEVENT
BEGIN:VEVENT
DTSTART;TZID=America/New_York:20230929T090000
DTEND;TZID=America/New_York:20230929T140000
DTSTAMP:20260420T083147
CREATED:20230920T194735Z
LAST-MODIFIED:20230920T194735Z
UID:4342-1695978000-1695996000@www.wvgearup.org
SUMMARY:Welcome to Gear Up / Get A Life
DESCRIPTION:Duval PK-8
URL:https://www.wvgearup.org/event/welcome-to-gear-up-get-a-life/
END:VEVENT
BEGIN:VEVENT
DTSTART;TZID=America/New_York:20230929T130000
DTEND;TZID=America/New_York:20230929T143000
DTSTAMP:20260420T083147
CREATED:20230919T201107Z
LAST-MODIFIED:20230919T201107Z
UID:4312-1695992400-1695997800@www.wvgearup.org
SUMMARY:Back to School Kick-Off
DESCRIPTION:Ceredo-Kenova Middle School
URL:https://www.wvgearup.org/event/back-to-school-kick-off/
END:VEVENT
BEGIN:VEVENT
DTSTART;TZID=America/New_York:20230929T131500
DTEND;TZID=America/New_York:20230929T144500
DTSTAMP:20260420T083147
CREATED:20230920T194958Z
LAST-MODIFIED:20230920T194958Z
UID:4348-1695993300-1695998700@www.wvgearup.org
SUMMARY:Welcome to Gear Up
DESCRIPTION:Fort Gay PK-8
URL:https://www.wvgearup.org/event/welcome-to-gear-up/
END:VEVENT
BEGIN:VEVENT
DTSTART;TZID=America/New_York:20230929T134600
DTEND;TZID=America/New_York:20230929T142200
DTSTAMP:20260420T083147
CREATED:20231004T192247Z
LAST-MODIFIED:20231004T192247Z
UID:4400-1695995160-1695997320@www.wvgearup.org
SUMMARY:Welcome to GEAR UP Lesson Part 2
DESCRIPTION:Hannan Junior/Senior High School
URL:https://www.wvgearup.org/event/welcome-to-gear-up-lesson-part-2/
END:VEVENT
BEGIN:VEVENT
DTSTART;TZID=America/New_York:20230929T150000
DTEND;TZID=America/New_York:20230929T190000
DTSTAMP:20260420T083147
CREATED:20230922T202311Z
LAST-MODIFIED:20230922T202317Z
UID:4371-1695999600-1696014000@www.wvgearup.org
SUMMARY:Gear Up Kickoff Event
DESCRIPTION:Logan Senior High School
URL:https://www.wvgearup.org/event/gear-up-kickoff-event/
END:VEVENT
BEGIN:VEVENT
DTSTART;TZID=America/New_York:20230929T150000
DTEND;TZID=America/New_York:20230929T190000
DTSTAMP:20260420T083147
CREATED:20231004T191849Z
LAST-MODIFIED:20231004T191849Z
UID:4392-1695999600-1696014000@www.wvgearup.org
SUMMARY:Gear Up Kickoff Event
DESCRIPTION:Logan Senior High School
URL:https://www.wvgearup.org/event/gear-up-kickoff-event-2/
END:VEVENT
BEGIN:VEVENT
DTSTART;TZID=America/New_York:20230929T160000
DTEND;TZID=America/New_York:20230929T180000
DTSTAMP:20260420T083147
CREATED:20230919T200815Z
LAST-MODIFIED:20230919T200815Z
UID:4306-1696003200-1696010400@www.wvgearup.org
SUMMARY:Gear up week
DESCRIPTION:Harts PK-8
URL:https://www.wvgearup.org/event/gear-up-week/
END:VEVENT
END:VCALENDAR