BEGIN:VCALENDAR
VERSION:2.0
PRODID:-//West Virginia Gear Up - ECPv6.15.11//NONSGML v1.0//EN
CALSCALE:GREGORIAN
METHOD:PUBLISH
X-WR-CALNAME:West Virginia Gear Up
X-ORIGINAL-URL:https://www.wvgearup.org
X-WR-CALDESC:Events for West Virginia Gear Up
REFRESH-INTERVAL;VALUE=DURATION:PT1H
X-Robots-Tag:noindex
X-PUBLISHED-TTL:PT1H
BEGIN:VTIMEZONE
TZID:America/New_York
BEGIN:DAYLIGHT
TZOFFSETFROM:-0500
TZOFFSETTO:-0400
TZNAME:EDT
DTSTART:20220313T070000
END:DAYLIGHT
BEGIN:STANDARD
TZOFFSETFROM:-0400
TZOFFSETTO:-0500
TZNAME:EST
DTSTART:20221106T060000
END:STANDARD
BEGIN:DAYLIGHT
TZOFFSETFROM:-0500
TZOFFSETTO:-0400
TZNAME:EDT
DTSTART:20230312T070000
END:DAYLIGHT
BEGIN:STANDARD
TZOFFSETFROM:-0400
TZOFFSETTO:-0500
TZNAME:EST
DTSTART:20231105T060000
END:STANDARD
BEGIN:DAYLIGHT
TZOFFSETFROM:-0500
TZOFFSETTO:-0400
TZNAME:EDT
DTSTART:20240310T070000
END:DAYLIGHT
BEGIN:STANDARD
TZOFFSETFROM:-0400
TZOFFSETTO:-0500
TZNAME:EST
DTSTART:20241103T060000
END:STANDARD
END:VTIMEZONE
BEGIN:VEVENT
DTSTART;TZID=America/New_York:20230925T100000
DTEND;TZID=America/New_York:20230929T153000
DTSTAMP:20260420T083136
CREATED:20231004T193337Z
LAST-MODIFIED:20231004T193337Z
UID:4422-1695636000-1696001400@www.wvgearup.org
SUMMARY:Why Apply Day
DESCRIPTION:Matewan PK-8
URL:https://www.wvgearup.org/event/why-apply-day/
END:VEVENT
BEGIN:VEVENT
DTSTART;TZID=America/New_York:20230928T073000
DTEND;TZID=America/New_York:20230928T153000
DTSTAMP:20260420T083136
CREATED:20231004T191951Z
LAST-MODIFIED:20231004T191951Z
UID:4394-1695886200-1695915000@www.wvgearup.org
SUMMARY:SVHS GearUp Day
DESCRIPTION:Spring Valley High School
URL:https://www.wvgearup.org/event/svhs-gearup-day/
END:VEVENT
BEGIN:VEVENT
DTSTART;TZID=America/New_York:20230928T083000
DTEND;TZID=America/New_York:20230928T110000
DTSTAMP:20260420T083136
CREATED:20230919T201614Z
LAST-MODIFIED:20230919T201614Z
UID:4321-1695889800-1695898800@www.wvgearup.org
SUMMARY:College Fair
DESCRIPTION:Wahama Junior/Senior High School
URL:https://www.wvgearup.org/event/college-fair/
END:VEVENT
BEGIN:VEVENT
DTSTART;TZID=America/New_York:20230928T090000
DTEND;TZID=America/New_York:20230928T100000
DTSTAMP:20260420T083136
CREATED:20230919T201020Z
LAST-MODIFIED:20230919T201020Z
UID:4310-1695891600-1695895200@www.wvgearup.org
SUMMARY:College Fair Trip
DESCRIPTION:Hannan Junior/Senior High School
URL:https://www.wvgearup.org/event/college-fair-trip/
END:VEVENT
BEGIN:VEVENT
DTSTART;TZID=America/New_York:20230928T090000
DTEND;TZID=America/New_York:20230928T113000
DTSTAMP:20260420T083136
CREATED:20230919T200925Z
LAST-MODIFIED:20230919T200925Z
UID:4308-1695891600-1695900600@www.wvgearup.org
SUMMARY:Get a life program
DESCRIPTION:Harts PK-8
URL:https://www.wvgearup.org/event/get-a-life-program-6/
END:VEVENT
BEGIN:VEVENT
DTSTART;TZID=America/New_York:20230928T163000
DTEND;TZID=America/New_York:20230928T183000
DTSTAMP:20260420T083136
CREATED:20230922T202112Z
LAST-MODIFIED:20230922T202112Z
UID:4367-1695918600-1695925800@www.wvgearup.org
SUMMARY:Gear Up Week Kickoff Event
DESCRIPTION:Chapmanville Middle School
URL:https://www.wvgearup.org/event/gear-up-week-kickoff-event/
END:VEVENT
BEGIN:VEVENT
DTSTART;TZID=America/New_York:20230928T170000
DTEND;TZID=America/New_York:20230928T190000
DTSTAMP:20260420T083136
CREATED:20231004T192724Z
LAST-MODIFIED:20231004T192724Z
UID:4410-1695920400-1695927600@www.wvgearup.org
SUMMARY:Gear Up Kick-off
DESCRIPTION:Sherman High School
URL:https://www.wvgearup.org/event/gear-up-kick-off-3/
END:VEVENT
BEGIN:VEVENT
DTSTART;TZID=America/New_York:20230928T170000
DTEND;TZID=America/New_York:20230928T203000
DTSTAMP:20260420T083136
CREATED:20230922T202016Z
LAST-MODIFIED:20230922T202016Z
UID:4365-1695920400-1695933000@www.wvgearup.org
SUMMARY:Welcome to GEAR UP!
DESCRIPTION:Van Junior/Senior High School
URL:https://www.wvgearup.org/event/welcome-to-gear-up-2/
END:VEVENT
BEGIN:VEVENT
DTSTART;TZID=America/New_York:20230928T180000
DTEND;TZID=America/New_York:20230928T200000
DTSTAMP:20260420T083136
CREATED:20231004T192639Z
LAST-MODIFIED:20231004T192639Z
UID:4408-1695924000-1695931200@www.wvgearup.org
SUMMARY:Welcome to Gear-UP
DESCRIPTION:Sherman Junior High School
URL:https://www.wvgearup.org/event/welcome-to-gear-up-3/
END:VEVENT
END:VCALENDAR