BEGIN:VCALENDAR
VERSION:2.0
PRODID:-//West Virginia Gear Up - ECPv6.15.11//NONSGML v1.0//EN
CALSCALE:GREGORIAN
METHOD:PUBLISH
X-WR-CALNAME:West Virginia Gear Up
X-ORIGINAL-URL:https://www.wvgearup.org
X-WR-CALDESC:Events for West Virginia Gear Up
REFRESH-INTERVAL;VALUE=DURATION:PT1H
X-Robots-Tag:noindex
X-PUBLISHED-TTL:PT1H
BEGIN:VTIMEZONE
TZID:America/New_York
BEGIN:DAYLIGHT
TZOFFSETFROM:-0500
TZOFFSETTO:-0400
TZNAME:EDT
DTSTART:20220313T070000
END:DAYLIGHT
BEGIN:STANDARD
TZOFFSETFROM:-0400
TZOFFSETTO:-0500
TZNAME:EST
DTSTART:20221106T060000
END:STANDARD
BEGIN:DAYLIGHT
TZOFFSETFROM:-0500
TZOFFSETTO:-0400
TZNAME:EDT
DTSTART:20230312T070000
END:DAYLIGHT
BEGIN:STANDARD
TZOFFSETFROM:-0400
TZOFFSETTO:-0500
TZNAME:EST
DTSTART:20231105T060000
END:STANDARD
BEGIN:DAYLIGHT
TZOFFSETFROM:-0500
TZOFFSETTO:-0400
TZNAME:EDT
DTSTART:20240310T070000
END:DAYLIGHT
BEGIN:STANDARD
TZOFFSETFROM:-0400
TZOFFSETTO:-0500
TZNAME:EST
DTSTART:20241103T060000
END:STANDARD
END:VTIMEZONE
BEGIN:VEVENT
DTSTART;TZID=America/New_York:20230925T100000
DTEND;TZID=America/New_York:20230929T153000
DTSTAMP:20260420T083146
CREATED:20231004T193337Z
LAST-MODIFIED:20231004T193337Z
UID:4422-1695636000-1696001400@www.wvgearup.org
SUMMARY:Why Apply Day
DESCRIPTION:Matewan PK-8
URL:https://www.wvgearup.org/event/why-apply-day/
END:VEVENT
BEGIN:VEVENT
DTSTART;TZID=America/New_York:20230926T092000
DTEND;TZID=America/New_York:20230926T120000
DTSTAMP:20260420T083146
CREATED:20230920T194411Z
LAST-MODIFIED:20230920T194411Z
UID:4334-1695720000-1695729600@www.wvgearup.org
SUMMARY:Southern Community College
DESCRIPTION:Scott High School
URL:https://www.wvgearup.org/event/southern-community-college/
END:VEVENT
BEGIN:VEVENT
DTSTART;TZID=America/New_York:20230926T153000
DTEND;TZID=America/New_York:20230926T173000
DTSTAMP:20260420T083146
CREATED:20230919T201214Z
LAST-MODIFIED:20230919T201214Z
UID:4314-1695742200-1695749400@www.wvgearup.org
SUMMARY:WELCOME TO GEARUP
DESCRIPTION:Richwood Middle School
URL:https://www.wvgearup.org/event/welcome-to-gearup/
END:VEVENT
BEGIN:VEVENT
DTSTART;TZID=America/New_York:20230926T173000
DTEND;TZID=America/New_York:20230926T190000
DTSTAMP:20260420T083146
CREATED:20230818T195425Z
LAST-MODIFIED:20230818T195832Z
UID:4257-1695749400-1695754800@www.wvgearup.org
SUMMARY:Gear Up Kick Off
DESCRIPTION:Mingo Central Comprehensive High School
URL:https://www.wvgearup.org/event/gear-up-kick-off-2/
END:VEVENT
BEGIN:VEVENT
DTSTART;TZID=America/New_York:20230926T180000
DTEND;TZID=America/New_York:20230926T210000
DTSTAMP:20260420T083146
CREATED:20230920T195931Z
LAST-MODIFIED:20230920T195931Z
UID:4354-1695751200-1695762000@www.wvgearup.org
SUMMARY:WCHS Welcome Event- Life of a Senior
DESCRIPTION:Webster County High School
URL:https://www.wvgearup.org/event/wchs-welcome-event-life-of-a-senior/
END:VEVENT
END:VCALENDAR