BEGIN:VCALENDAR
VERSION:2.0
PRODID:-//West Virginia Gear Up - ECPv6.15.11//NONSGML v1.0//EN
CALSCALE:GREGORIAN
METHOD:PUBLISH
X-ORIGINAL-URL:https://www.wvgearup.org
X-WR-CALDESC:Events for West Virginia Gear Up
REFRESH-INTERVAL;VALUE=DURATION:PT1H
X-Robots-Tag:noindex
X-PUBLISHED-TTL:PT1H
BEGIN:VTIMEZONE
TZID:America/New_York
BEGIN:DAYLIGHT
TZOFFSETFROM:-0500
TZOFFSETTO:-0400
TZNAME:EDT
DTSTART:20220313T070000
END:DAYLIGHT
BEGIN:STANDARD
TZOFFSETFROM:-0400
TZOFFSETTO:-0500
TZNAME:EST
DTSTART:20221106T060000
END:STANDARD
BEGIN:DAYLIGHT
TZOFFSETFROM:-0500
TZOFFSETTO:-0400
TZNAME:EDT
DTSTART:20230312T070000
END:DAYLIGHT
BEGIN:STANDARD
TZOFFSETFROM:-0400
TZOFFSETTO:-0500
TZNAME:EST
DTSTART:20231105T060000
END:STANDARD
BEGIN:DAYLIGHT
TZOFFSETFROM:-0500
TZOFFSETTO:-0400
TZNAME:EDT
DTSTART:20240310T070000
END:DAYLIGHT
BEGIN:STANDARD
TZOFFSETFROM:-0400
TZOFFSETTO:-0500
TZNAME:EST
DTSTART:20241103T060000
END:STANDARD
END:VTIMEZONE
BEGIN:VEVENT
DTSTART;TZID=America/New_York:20230925T070000
DTEND;TZID=America/New_York:20230925T144500
DTSTAMP:20260420T083226
CREATED:20230919T202158Z
LAST-MODIFIED:20230919T202158Z
UID:4331-1695625200-1695653100@www.wvgearup.org
SUMMARY:Welcome to GEAR UP Day
DESCRIPTION:Logan Middle School
URL:https://www.wvgearup.org/event/welcome-to-gear-up-day-9/
END:VEVENT
BEGIN:VEVENT
DTSTART;TZID=America/New_York:20230925T093000
DTEND;TZID=America/New_York:20230925T150500
DTSTAMP:20260420T083226
CREATED:20231004T192433Z
LAST-MODIFIED:20231004T192433Z
UID:4404-1695634200-1695654300@www.wvgearup.org
SUMMARY:Welcome to GEAR UP: Seniors!
DESCRIPTION:Hannan Junior/Senior High School
URL:https://www.wvgearup.org/event/welcome-to-gear-up-seniors/
END:VEVENT
BEGIN:VEVENT
DTSTART;TZID=America/New_York:20230925T100000
DTEND;TZID=America/New_York:20230925T103000
DTSTAMP:20260420T083226
CREATED:20231004T192532Z
LAST-MODIFIED:20231004T192532Z
UID:4406-1695636000-1695637800@www.wvgearup.org
SUMMARY:Welcome to Gear Up Day
DESCRIPTION:Crum PK-8
URL:https://www.wvgearup.org/event/welcome-to-gear-up-day-11/
END:VEVENT
BEGIN:VEVENT
DTSTART;TZID=America/New_York:20230925T100000
DTEND;TZID=America/New_York:20230925T123000
DTSTAMP:20260420T083226
CREATED:20231019T201842Z
LAST-MODIFIED:20231019T201842Z
UID:4427-1695636000-1695645000@www.wvgearup.org
SUMMARY:GEAR UP Day
DESCRIPTION:Lenore PK-8
URL:https://www.wvgearup.org/event/gear-up-day/
END:VEVENT
BEGIN:VEVENT
DTSTART;TZID=America/New_York:20230925T100000
DTEND;TZID=America/New_York:20230929T153000
DTSTAMP:20260420T083226
CREATED:20231004T193337Z
LAST-MODIFIED:20231004T193337Z
UID:4422-1695636000-1696001400@www.wvgearup.org
SUMMARY:Why Apply Day
DESCRIPTION:Matewan PK-8
URL:https://www.wvgearup.org/event/why-apply-day/
END:VEVENT
BEGIN:VEVENT
DTSTART;TZID=America/New_York:20230925T105500
DTEND;TZID=America/New_York:20230925T112500
DTSTAMP:20260420T083226
CREATED:20230922T202221Z
LAST-MODIFIED:20230922T202221Z
UID:4369-1695639300-1695641100@www.wvgearup.org
SUMMARY:"I am Gear Up" Day
DESCRIPTION:Point Pleasant Junior/Senior High School
URL:https://www.wvgearup.org/event/i-am-gear-up-day/
END:VEVENT
BEGIN:VEVENT
DTSTART;TZID=America/New_York:20230925T163000
DTEND;TZID=America/New_York:20230925T193000
DTSTAMP:20260420T083226
CREATED:20231019T202930Z
LAST-MODIFIED:20231019T202930Z
UID:4443-1695659400-1695670200@www.wvgearup.org
SUMMARY:Gear Up Parent Launch Event-National Gear Up Week
DESCRIPTION:Matewan PK-8
URL:https://www.wvgearup.org/event/gear-up-parent-launch-event-national-gear-up-week/
END:VEVENT
END:VCALENDAR