BEGIN:VCALENDAR
VERSION:2.0
PRODID:-//West Virginia Gear Up - ECPv6.15.11//NONSGML v1.0//EN
CALSCALE:GREGORIAN
METHOD:PUBLISH
X-WR-CALNAME:West Virginia Gear Up
X-ORIGINAL-URL:https://www.wvgearup.org
X-WR-CALDESC:Events for West Virginia Gear Up
REFRESH-INTERVAL;VALUE=DURATION:PT1H
X-Robots-Tag:noindex
X-PUBLISHED-TTL:PT1H
BEGIN:VTIMEZONE
TZID:America/New_York
BEGIN:DAYLIGHT
TZOFFSETFROM:-0500
TZOFFSETTO:-0400
TZNAME:EDT
DTSTART:20220313T070000
END:DAYLIGHT
BEGIN:STANDARD
TZOFFSETFROM:-0400
TZOFFSETTO:-0500
TZNAME:EST
DTSTART:20221106T060000
END:STANDARD
BEGIN:DAYLIGHT
TZOFFSETFROM:-0500
TZOFFSETTO:-0400
TZNAME:EDT
DTSTART:20230312T070000
END:DAYLIGHT
BEGIN:STANDARD
TZOFFSETFROM:-0400
TZOFFSETTO:-0500
TZNAME:EST
DTSTART:20231105T060000
END:STANDARD
BEGIN:DAYLIGHT
TZOFFSETFROM:-0500
TZOFFSETTO:-0400
TZNAME:EDT
DTSTART:20240310T070000
END:DAYLIGHT
BEGIN:STANDARD
TZOFFSETFROM:-0400
TZOFFSETTO:-0500
TZNAME:EST
DTSTART:20241103T060000
END:STANDARD
END:VTIMEZONE
BEGIN:VEVENT
DTSTART;TZID=America/New_York:20230502T083000
DTEND;TZID=America/New_York:20230502T113000
DTSTAMP:20260420T155307
CREATED:20230120T140259Z
LAST-MODIFIED:20230120T140259Z
UID:3860-1683016200-1683027000@www.wvgearup.org
SUMMARY:College Decision Day/Military Signing Day
DESCRIPTION:Point Pleasant Junior/Senior High School
URL:https://www.wvgearup.org/event/college-decision-day-military-signing-day/
END:VEVENT
BEGIN:VEVENT
DTSTART;TZID=America/New_York:20230502T130000
DTEND;TZID=America/New_York:20230502T150000
DTSTAMP:20260420T155307
CREATED:20230421T184141Z
LAST-MODIFIED:20230421T184141Z
UID:4174-1683032400-1683039600@www.wvgearup.org
SUMMARY:College Decision Day
DESCRIPTION:Lincoln County High School
URL:https://www.wvgearup.org/event/college-decision-day-12/
END:VEVENT
BEGIN:VEVENT
DTSTART;TZID=America/New_York:20230502T130000
DTEND;TZID=America/New_York:20230502T150000
DTSTAMP:20260420T155307
CREATED:20230501T192015Z
LAST-MODIFIED:20230501T192015Z
UID:4200-1683032400-1683039600@www.wvgearup.org
SUMMARY:Transition and College Readiness Event
DESCRIPTION:Lincoln County High School
URL:https://www.wvgearup.org/event/transition-and-college-readiness-event/
END:VEVENT
BEGIN:VEVENT
DTSTART;TZID=America/New_York:20230502T153000
DTEND;TZID=America/New_York:20230502T173000
DTSTAMP:20260420T155307
CREATED:20230419T201704Z
LAST-MODIFIED:20230419T201704Z
UID:4157-1683041400-1683048600@www.wvgearup.org
SUMMARY:8th grade transition event parent night
DESCRIPTION:Fort Gay PK-8
URL:https://www.wvgearup.org/event/8th-grade-transition-event-parent-night/
END:VEVENT
BEGIN:VEVENT
DTSTART;TZID=America/New_York:20230502T180000
DTEND;TZID=America/New_York:20230502T200000
DTSTAMP:20260420T155307
CREATED:20230501T190357Z
LAST-MODIFIED:20230501T190357Z
UID:4192-1683050400-1683057600@www.wvgearup.org
SUMMARY:Transition to High School
DESCRIPTION:Chapmanville Middle School
URL:https://www.wvgearup.org/event/transition-to-high-school/
END:VEVENT
END:VCALENDAR