BEGIN:VCALENDAR
VERSION:2.0
PRODID:-//West Virginia Gear Up - ECPv6.15.11//NONSGML v1.0//EN
CALSCALE:GREGORIAN
METHOD:PUBLISH
X-ORIGINAL-URL:https://www.wvgearup.org
X-WR-CALDESC:Events for West Virginia Gear Up
REFRESH-INTERVAL;VALUE=DURATION:PT1H
X-Robots-Tag:noindex
X-PUBLISHED-TTL:PT1H
BEGIN:VTIMEZONE
TZID:America/New_York
BEGIN:DAYLIGHT
TZOFFSETFROM:-0500
TZOFFSETTO:-0400
TZNAME:EDT
DTSTART:20220313T070000
END:DAYLIGHT
BEGIN:STANDARD
TZOFFSETFROM:-0400
TZOFFSETTO:-0500
TZNAME:EST
DTSTART:20221106T060000
END:STANDARD
BEGIN:DAYLIGHT
TZOFFSETFROM:-0500
TZOFFSETTO:-0400
TZNAME:EDT
DTSTART:20230312T070000
END:DAYLIGHT
BEGIN:STANDARD
TZOFFSETFROM:-0400
TZOFFSETTO:-0500
TZNAME:EST
DTSTART:20231105T060000
END:STANDARD
BEGIN:DAYLIGHT
TZOFFSETFROM:-0500
TZOFFSETTO:-0400
TZNAME:EDT
DTSTART:20240310T070000
END:DAYLIGHT
BEGIN:STANDARD
TZOFFSETFROM:-0400
TZOFFSETTO:-0500
TZNAME:EST
DTSTART:20241103T060000
END:STANDARD
END:VTIMEZONE
BEGIN:VEVENT
DTSTART;TZID=America/New_York:20230428T093000
DTEND;TZID=America/New_York:20230428T123000
DTSTAMP:20260420T172151
CREATED:20230126T211712Z
LAST-MODIFIED:20230126T211712Z
UID:3895-1682674200-1682685000@www.wvgearup.org
SUMMARY:College Decision Day and Military Signing Day
DESCRIPTION:Spring Valley High School
URL:https://www.wvgearup.org/event/college-decision-day-and-military-signing-day/
END:VEVENT
BEGIN:VEVENT
DTSTART;TZID=America/New_York:20230428T093000
DTEND;TZID=America/New_York:20230428T150000
DTSTAMP:20260420T172151
CREATED:20230222T183026Z
LAST-MODIFIED:20230222T183026Z
UID:3983-1682674200-1682694000@www.wvgearup.org
SUMMARY:Signing Day/Career Fair/Job Expo
DESCRIPTION:Clay County High School
URL:https://www.wvgearup.org/event/signing-day-career-fair-job-expo/
END:VEVENT
END:VCALENDAR