BEGIN:VCALENDAR
VERSION:2.0
PRODID:-//West Virginia Gear Up - ECPv6.15.11//NONSGML v1.0//EN
CALSCALE:GREGORIAN
METHOD:PUBLISH
X-WR-CALNAME:West Virginia Gear Up
X-ORIGINAL-URL:https://www.wvgearup.org
X-WR-CALDESC:Events for West Virginia Gear Up
REFRESH-INTERVAL;VALUE=DURATION:PT1H
X-Robots-Tag:noindex
X-PUBLISHED-TTL:PT1H
BEGIN:VTIMEZONE
TZID:America/New_York
BEGIN:DAYLIGHT
TZOFFSETFROM:-0500
TZOFFSETTO:-0400
TZNAME:EDT
DTSTART:20220313T070000
END:DAYLIGHT
BEGIN:STANDARD
TZOFFSETFROM:-0400
TZOFFSETTO:-0500
TZNAME:EST
DTSTART:20221106T060000
END:STANDARD
BEGIN:DAYLIGHT
TZOFFSETFROM:-0500
TZOFFSETTO:-0400
TZNAME:EDT
DTSTART:20230312T070000
END:DAYLIGHT
BEGIN:STANDARD
TZOFFSETFROM:-0400
TZOFFSETTO:-0500
TZNAME:EST
DTSTART:20231105T060000
END:STANDARD
BEGIN:DAYLIGHT
TZOFFSETFROM:-0500
TZOFFSETTO:-0400
TZNAME:EDT
DTSTART:20240310T070000
END:DAYLIGHT
BEGIN:STANDARD
TZOFFSETFROM:-0400
TZOFFSETTO:-0500
TZNAME:EST
DTSTART:20241103T060000
END:STANDARD
END:VTIMEZONE
BEGIN:VEVENT
DTSTART;TZID=America/New_York:20230419T080000
DTEND;TZID=America/New_York:20230419T143000
DTSTAMP:20260420T172059
CREATED:20230404T153420Z
LAST-MODIFIED:20230404T153420Z
UID:4136-1681891200-1681914600@www.wvgearup.org
SUMMARY:College campus visit
DESCRIPTION:Vinson Middle School
URL:https://www.wvgearup.org/event/college-campus-visit/
END:VEVENT
BEGIN:VEVENT
DTSTART;TZID=America/New_York:20230419T123000
DTEND;TZID=America/New_York:20230419T133000
DTSTAMP:20260420T172059
CREATED:20230308T211803Z
LAST-MODIFIED:20230308T211803Z
UID:4065-1681907400-1681911000@www.wvgearup.org
SUMMARY:Get A Life
DESCRIPTION:Sherman High School
URL:https://www.wvgearup.org/event/get-a-life-7/
END:VEVENT
BEGIN:VEVENT
DTSTART;TZID=America/New_York:20230419T170000
DTEND;TZID=America/New_York:20230419T190000
DTSTAMP:20260420T172059
CREATED:20230419T201838Z
LAST-MODIFIED:20230419T201838Z
UID:4161-1681923600-1681930800@www.wvgearup.org
SUMMARY:8th Grade Parent Scheduling Event
DESCRIPTION:Point Pleasant Junior/Senior High School
URL:https://www.wvgearup.org/event/8th-grade-parent-scheduling-event/
END:VEVENT
END:VCALENDAR