BEGIN:VCALENDAR
VERSION:2.0
PRODID:-//West Virginia Gear Up - ECPv6.15.11//NONSGML v1.0//EN
CALSCALE:GREGORIAN
METHOD:PUBLISH
X-WR-CALNAME:West Virginia Gear Up
X-ORIGINAL-URL:https://www.wvgearup.org
X-WR-CALDESC:Events for West Virginia Gear Up
REFRESH-INTERVAL;VALUE=DURATION:PT1H
X-Robots-Tag:noindex
X-PUBLISHED-TTL:PT1H
BEGIN:VTIMEZONE
TZID:America/New_York
BEGIN:DAYLIGHT
TZOFFSETFROM:-0500
TZOFFSETTO:-0400
TZNAME:EDT
DTSTART:20220313T070000
END:DAYLIGHT
BEGIN:STANDARD
TZOFFSETFROM:-0400
TZOFFSETTO:-0500
TZNAME:EST
DTSTART:20221106T060000
END:STANDARD
BEGIN:DAYLIGHT
TZOFFSETFROM:-0500
TZOFFSETTO:-0400
TZNAME:EDT
DTSTART:20230312T070000
END:DAYLIGHT
BEGIN:STANDARD
TZOFFSETFROM:-0400
TZOFFSETTO:-0500
TZNAME:EST
DTSTART:20231105T060000
END:STANDARD
BEGIN:DAYLIGHT
TZOFFSETFROM:-0500
TZOFFSETTO:-0400
TZNAME:EDT
DTSTART:20240310T070000
END:DAYLIGHT
BEGIN:STANDARD
TZOFFSETFROM:-0400
TZOFFSETTO:-0500
TZNAME:EST
DTSTART:20241103T060000
END:STANDARD
END:VTIMEZONE
BEGIN:VEVENT
DTSTART;TZID=America/New_York:20230323T080000
DTEND;TZID=America/New_York:20230323T140000
DTSTAMP:20260420T184936
CREATED:20230209T165619Z
LAST-MODIFIED:20230209T165619Z
UID:3956-1679558400-1679580000@www.wvgearup.org
SUMMARY:Class Trip to Marshall
DESCRIPTION:Man Senior High School
URL:https://www.wvgearup.org/event/class-trip-to-marshall/
END:VEVENT
BEGIN:VEVENT
DTSTART;TZID=America/New_York:20230323T080000
DTEND;TZID=America/New_York:20230323T150000
DTSTAMP:20260420T184936
CREATED:20230207T184730Z
LAST-MODIFIED:20230207T184730Z
UID:3933-1679558400-1679583600@www.wvgearup.org
SUMMARY:St Marys School of Nursing Visit
DESCRIPTION:Wayne High School
URL:https://www.wvgearup.org/event/st-marys-school-of-nursing-visit/
END:VEVENT
BEGIN:VEVENT
DTSTART;TZID=America/New_York:20230323T090000
DTEND;TZID=America/New_York:20230323T100000
DTSTAMP:20260420T184936
CREATED:20230308T192218Z
LAST-MODIFIED:20230308T192218Z
UID:4051-1679562000-1679565600@www.wvgearup.org
SUMMARY:Virtual Campus Visit - WV State University
DESCRIPTION:Buffalo Middle School
URL:https://www.wvgearup.org/event/virtual-campus-visit-wv-state-university/
END:VEVENT
BEGIN:VEVENT
DTSTART;TZID=America/New_York:20230323T090000
DTEND;TZID=America/New_York:20230323T133000
DTSTAMP:20260420T184936
CREATED:20230105T211145Z
LAST-MODIFIED:20230105T211145Z
UID:3783-1679562000-1679578200@www.wvgearup.org
SUMMARY:In-Person College Visit to University of Charleston
DESCRIPTION:Madison Middle School
URL:https://www.wvgearup.org/event/in-person-college-visit-to-university-of-charleston/
END:VEVENT
BEGIN:VEVENT
DTSTART;TZID=America/New_York:20230323T100000
DTEND;TZID=America/New_York:20230323T153000
DTSTAMP:20260420T184936
CREATED:20230316T164422Z
LAST-MODIFIED:20230316T164422Z
UID:4091-1679565600-1679585400@www.wvgearup.org
SUMMARY:FAFSA Completion Workshop
DESCRIPTION:Tolsia High school
URL:https://www.wvgearup.org/event/fafsa-completion-workshop-7/
END:VEVENT
END:VCALENDAR