BEGIN:VCALENDAR
VERSION:2.0
PRODID:-//West Virginia Gear Up - ECPv6.15.11//NONSGML v1.0//EN
CALSCALE:GREGORIAN
METHOD:PUBLISH
X-WR-CALNAME:West Virginia Gear Up
X-ORIGINAL-URL:https://www.wvgearup.org
X-WR-CALDESC:Events for West Virginia Gear Up
REFRESH-INTERVAL;VALUE=DURATION:PT1H
X-Robots-Tag:noindex
X-PUBLISHED-TTL:PT1H
BEGIN:VTIMEZONE
TZID:America/New_York
BEGIN:DAYLIGHT
TZOFFSETFROM:-0500
TZOFFSETTO:-0400
TZNAME:EDT
DTSTART:20220313T070000
END:DAYLIGHT
BEGIN:STANDARD
TZOFFSETFROM:-0400
TZOFFSETTO:-0500
TZNAME:EST
DTSTART:20221106T060000
END:STANDARD
BEGIN:DAYLIGHT
TZOFFSETFROM:-0500
TZOFFSETTO:-0400
TZNAME:EDT
DTSTART:20230312T070000
END:DAYLIGHT
BEGIN:STANDARD
TZOFFSETFROM:-0400
TZOFFSETTO:-0500
TZNAME:EST
DTSTART:20231105T060000
END:STANDARD
BEGIN:DAYLIGHT
TZOFFSETFROM:-0500
TZOFFSETTO:-0400
TZNAME:EDT
DTSTART:20240310T070000
END:DAYLIGHT
BEGIN:STANDARD
TZOFFSETFROM:-0400
TZOFFSETTO:-0500
TZNAME:EST
DTSTART:20241103T060000
END:STANDARD
END:VTIMEZONE
BEGIN:VEVENT
DTSTART;TZID=America/New_York:20230321T080000
DTEND;TZID=America/New_York:20230321T153000
DTSTAMP:20260420T185053
CREATED:20230308T192431Z
LAST-MODIFIED:20230308T192431Z
UID:4055-1679385600-1679412600@www.wvgearup.org
SUMMARY:Marshall University Campus Tour
DESCRIPTION:Lenore PK-8
URL:https://www.wvgearup.org/event/marshall-university-campus-tour/
END:VEVENT
BEGIN:VEVENT
DTSTART;TZID=America/New_York:20230321T090000
DTEND;TZID=America/New_York:20230321T100000
DTSTAMP:20260420T185053
CREATED:20230323T184116Z
LAST-MODIFIED:20230323T184116Z
UID:4116-1679389200-1679392800@www.wvgearup.org
SUMMARY:Marshall For All Initiative
DESCRIPTION:Tolsia High School
URL:https://www.wvgearup.org/event/marshall-for-all-initiative/
END:VEVENT
BEGIN:VEVENT
DTSTART;TZID=America/New_York:20230321T093000
DTEND;TZID=America/New_York:20230321T113000
DTSTAMP:20260420T185053
CREATED:20230110T153937Z
LAST-MODIFIED:20230110T153937Z
UID:3799-1679391000-1679398200@www.wvgearup.org
SUMMARY:Game of Life
DESCRIPTION:Harts PK-8
URL:https://www.wvgearup.org/event/game-of-life/
END:VEVENT
BEGIN:VEVENT
DTSTART;TZID=America/New_York:20230321T123000
DTEND;TZID=America/New_York:20230321T163000
DTSTAMP:20260420T185053
CREATED:20230110T154154Z
LAST-MODIFIED:20230110T154154Z
UID:3803-1679401800-1679416200@www.wvgearup.org
SUMMARY:WVU Campus Tour & Visit
DESCRIPTION:Tolsia High School
URL:https://www.wvgearup.org/event/wvu-campus-tour-visit/
END:VEVENT
BEGIN:VEVENT
DTSTART;TZID=America/New_York:20230321T123000
DTEND;TZID=America/New_York:20230321T163000
DTSTAMP:20260420T185053
CREATED:20230317T201323Z
LAST-MODIFIED:20230317T201323Z
UID:4105-1679401800-1679416200@www.wvgearup.org
SUMMARY:WVU Campus Tour & Visit
DESCRIPTION:Tolsia High School
URL:https://www.wvgearup.org/event/wvu-campus-tour-visit-2/
END:VEVENT
BEGIN:VEVENT
DTSTART;TZID=America/New_York:20230321T160000
DTEND;TZID=America/New_York:20230321T183000
DTSTAMP:20260420T185053
CREATED:20230323T184226Z
LAST-MODIFIED:20230323T184226Z
UID:4118-1679414400-1679423400@www.wvgearup.org
SUMMARY:FAFSA Workshop #3
DESCRIPTION:Spring Valley High School
URL:https://www.wvgearup.org/event/fafsa-workshop-3-2/
END:VEVENT
END:VCALENDAR