BEGIN:VCALENDAR
VERSION:2.0
PRODID:-//West Virginia Gear Up - ECPv6.15.11//NONSGML v1.0//EN
CALSCALE:GREGORIAN
METHOD:PUBLISH
X-ORIGINAL-URL:https://www.wvgearup.org
X-WR-CALDESC:Events for West Virginia Gear Up
REFRESH-INTERVAL;VALUE=DURATION:PT1H
X-Robots-Tag:noindex
X-PUBLISHED-TTL:PT1H
BEGIN:VTIMEZONE
TZID:America/New_York
BEGIN:DAYLIGHT
TZOFFSETFROM:-0500
TZOFFSETTO:-0400
TZNAME:EDT
DTSTART:20220313T070000
END:DAYLIGHT
BEGIN:STANDARD
TZOFFSETFROM:-0400
TZOFFSETTO:-0500
TZNAME:EST
DTSTART:20221106T060000
END:STANDARD
BEGIN:DAYLIGHT
TZOFFSETFROM:-0500
TZOFFSETTO:-0400
TZNAME:EDT
DTSTART:20230312T070000
END:DAYLIGHT
BEGIN:STANDARD
TZOFFSETFROM:-0400
TZOFFSETTO:-0500
TZNAME:EST
DTSTART:20231105T060000
END:STANDARD
BEGIN:DAYLIGHT
TZOFFSETFROM:-0500
TZOFFSETTO:-0400
TZNAME:EDT
DTSTART:20240310T070000
END:DAYLIGHT
BEGIN:STANDARD
TZOFFSETFROM:-0400
TZOFFSETTO:-0500
TZNAME:EST
DTSTART:20241103T060000
END:STANDARD
END:VTIMEZONE
BEGIN:VEVENT
DTSTART;TZID=America/New_York:20230315T090000
DTEND;TZID=America/New_York:20230315T110000
DTSTAMP:20260420T185244
CREATED:20230210T211107Z
LAST-MODIFIED:20230210T211107Z
UID:3972-1678870800-1678878000@www.wvgearup.org
SUMMARY:Mount west college visit
DESCRIPTION:Fort Gay PK-8
URL:https://www.wvgearup.org/event/mount-west-college-visit/
END:VEVENT
BEGIN:VEVENT
DTSTART;TZID=America/New_York:20230315T150000
DTEND;TZID=America/New_York:20230315T190000
DTSTAMP:20260420T185244
CREATED:20221130T195208Z
LAST-MODIFIED:20221130T195243Z
UID:3729-1678892400-1678906800@www.wvgearup.org
SUMMARY:FAFSA WORKSHOP #3
DESCRIPTION:Spring Valley High School
URL:https://www.wvgearup.org/event/fafsa-3/
END:VEVENT
END:VCALENDAR