BEGIN:VCALENDAR
VERSION:2.0
PRODID:-//West Virginia Gear Up - ECPv6.15.11//NONSGML v1.0//EN
CALSCALE:GREGORIAN
METHOD:PUBLISH
X-ORIGINAL-URL:https://www.wvgearup.org
X-WR-CALDESC:Events for West Virginia Gear Up
REFRESH-INTERVAL;VALUE=DURATION:PT1H
X-Robots-Tag:noindex
X-PUBLISHED-TTL:PT1H
BEGIN:VTIMEZONE
TZID:America/New_York
BEGIN:DAYLIGHT
TZOFFSETFROM:-0500
TZOFFSETTO:-0400
TZNAME:EDT
DTSTART:20220313T070000
END:DAYLIGHT
BEGIN:STANDARD
TZOFFSETFROM:-0400
TZOFFSETTO:-0500
TZNAME:EST
DTSTART:20221106T060000
END:STANDARD
BEGIN:DAYLIGHT
TZOFFSETFROM:-0500
TZOFFSETTO:-0400
TZNAME:EDT
DTSTART:20230312T070000
END:DAYLIGHT
BEGIN:STANDARD
TZOFFSETFROM:-0400
TZOFFSETTO:-0500
TZNAME:EST
DTSTART:20231105T060000
END:STANDARD
BEGIN:DAYLIGHT
TZOFFSETFROM:-0500
TZOFFSETTO:-0400
TZNAME:EDT
DTSTART:20240310T070000
END:DAYLIGHT
BEGIN:STANDARD
TZOFFSETFROM:-0400
TZOFFSETTO:-0500
TZNAME:EST
DTSTART:20241103T060000
END:STANDARD
END:VTIMEZONE
BEGIN:VEVENT
DTSTART;TZID=America/New_York:20230314T090000
DTEND;TZID=America/New_York:20230314T153000
DTSTAMP:20260420T185244
CREATED:20230222T183124Z
LAST-MODIFIED:20230222T183124Z
UID:3985-1678784400-1678807800@www.wvgearup.org
SUMMARY:FAFSA Workshop
DESCRIPTION:Webster County High School
URL:https://www.wvgearup.org/event/fafsa-workshop-20/
END:VEVENT
BEGIN:VEVENT
DTSTART;TZID=America/New_York:20230314T093000
DTEND;TZID=America/New_York:20230314T110000
DTSTAMP:20260420T185244
CREATED:20230308T192548Z
LAST-MODIFIED:20230308T192548Z
UID:4057-1678786200-1678791600@www.wvgearup.org
SUMMARY:Financial Literacy-Get a Life Program
DESCRIPTION:Burch PK-8
URL:https://www.wvgearup.org/event/financial-literacy-get-a-life-program/
END:VEVENT
BEGIN:VEVENT
DTSTART;TZID=America/New_York:20230314T113000
DTEND;TZID=America/New_York:20230314T133000
DTSTAMP:20260420T185244
CREATED:20230309T162821Z
LAST-MODIFIED:20230309T162821Z
UID:4081-1678793400-1678800600@www.wvgearup.org
SUMMARY:College Visit - Fairmont
DESCRIPTION:Tolsia High School
URL:https://www.wvgearup.org/event/college-visit-fairmont/
END:VEVENT
END:VCALENDAR