BEGIN:VCALENDAR
VERSION:2.0
PRODID:-//West Virginia Gear Up - ECPv6.15.11//NONSGML v1.0//EN
CALSCALE:GREGORIAN
METHOD:PUBLISH
X-WR-CALNAME:West Virginia Gear Up
X-ORIGINAL-URL:https://www.wvgearup.org
X-WR-CALDESC:Events for West Virginia Gear Up
REFRESH-INTERVAL;VALUE=DURATION:PT1H
X-Robots-Tag:noindex
X-PUBLISHED-TTL:PT1H
BEGIN:VTIMEZONE
TZID:America/New_York
BEGIN:DAYLIGHT
TZOFFSETFROM:-0500
TZOFFSETTO:-0400
TZNAME:EDT
DTSTART:20210314T070000
END:DAYLIGHT
BEGIN:STANDARD
TZOFFSETFROM:-0400
TZOFFSETTO:-0500
TZNAME:EST
DTSTART:20211107T060000
END:STANDARD
BEGIN:DAYLIGHT
TZOFFSETFROM:-0500
TZOFFSETTO:-0400
TZNAME:EDT
DTSTART:20220313T070000
END:DAYLIGHT
BEGIN:STANDARD
TZOFFSETFROM:-0400
TZOFFSETTO:-0500
TZNAME:EST
DTSTART:20221106T060000
END:STANDARD
BEGIN:DAYLIGHT
TZOFFSETFROM:-0500
TZOFFSETTO:-0400
TZNAME:EDT
DTSTART:20230312T070000
END:DAYLIGHT
BEGIN:STANDARD
TZOFFSETFROM:-0400
TZOFFSETTO:-0500
TZNAME:EST
DTSTART:20231105T060000
END:STANDARD
END:VTIMEZONE
BEGIN:VEVENT
DTSTART;TZID=America/New_York:20221215T080000
DTEND;TZID=America/New_York:20221215T140000
DTSTAMP:20260420T232413
CREATED:20221121T210534Z
LAST-MODIFIED:20221121T211059Z
UID:3722-1671091200-1671112800@www.wvgearup.org
SUMMARY:FAFSA Workshop
DESCRIPTION:Mingo Central Comprehensive High School
URL:https://www.wvgearup.org/event/fafsa-workshop-14/
END:VEVENT
BEGIN:VEVENT
DTSTART;TZID=America/New_York:20221215T080000
DTEND;TZID=America/New_York:20221215T140000
DTSTAMP:20260420T232413
CREATED:20221208T210438Z
LAST-MODIFIED:20221208T210438Z
UID:3745-1671091200-1671112800@www.wvgearup.org
SUMMARY:College Visit
DESCRIPTION:Hannan Junior/Senior High School
URL:https://www.wvgearup.org/event/college-visit-4/
END:VEVENT
BEGIN:VEVENT
DTSTART;TZID=America/New_York:20221215T173000
DTEND;TZID=America/New_York:20221215T190000
DTSTAMP:20260420T232413
CREATED:20221214T205022Z
LAST-MODIFIED:20221214T205022Z
UID:3772-1671125400-1671130800@www.wvgearup.org
SUMMARY:Family/Math Night
DESCRIPTION:Hamlin PK-8
URL:https://www.wvgearup.org/event/family-math-night/
END:VEVENT
END:VCALENDAR