BEGIN:VCALENDAR
VERSION:2.0
PRODID:-//West Virginia Gear Up - ECPv6.15.11//NONSGML v1.0//EN
CALSCALE:GREGORIAN
METHOD:PUBLISH
X-ORIGINAL-URL:https://www.wvgearup.org
X-WR-CALDESC:Events for West Virginia Gear Up
REFRESH-INTERVAL;VALUE=DURATION:PT1H
X-Robots-Tag:noindex
X-PUBLISHED-TTL:PT1H
BEGIN:VTIMEZONE
TZID:America/New_York
BEGIN:DAYLIGHT
TZOFFSETFROM:-0500
TZOFFSETTO:-0400
TZNAME:EDT
DTSTART:20210314T070000
END:DAYLIGHT
BEGIN:STANDARD
TZOFFSETFROM:-0400
TZOFFSETTO:-0500
TZNAME:EST
DTSTART:20211107T060000
END:STANDARD
BEGIN:DAYLIGHT
TZOFFSETFROM:-0500
TZOFFSETTO:-0400
TZNAME:EDT
DTSTART:20220313T070000
END:DAYLIGHT
BEGIN:STANDARD
TZOFFSETFROM:-0400
TZOFFSETTO:-0500
TZNAME:EST
DTSTART:20221106T060000
END:STANDARD
BEGIN:DAYLIGHT
TZOFFSETFROM:-0500
TZOFFSETTO:-0400
TZNAME:EDT
DTSTART:20230312T070000
END:DAYLIGHT
BEGIN:STANDARD
TZOFFSETFROM:-0400
TZOFFSETTO:-0500
TZNAME:EST
DTSTART:20231105T060000
END:STANDARD
END:VTIMEZONE
BEGIN:VEVENT
DTSTART;TZID=America/New_York:20221212T080000
DTEND;TZID=America/New_York:20221212T110000
DTSTAMP:20260420T232507
CREATED:20221130T195830Z
LAST-MODIFIED:20221130T195830Z
UID:3739-1670832000-1670842800@www.wvgearup.org
SUMMARY:Mountwest CTC Campus visit
DESCRIPTION:Spring Valley High School
URL:https://www.wvgearup.org/event/mountwest-ctc-campus-visit/
END:VEVENT
BEGIN:VEVENT
DTSTART;TZID=America/New_York:20221212T080000
DTEND;TZID=America/New_York:20221212T150000
DTSTAMP:20260420T232507
CREATED:20221115T211342Z
LAST-MODIFIED:20221115T211342Z
UID:3700-1670832000-1670857200@www.wvgearup.org
SUMMARY:College visit to Mountwest and Cabell County Career and Technical School
DESCRIPTION:Wayne High School
URL:https://www.wvgearup.org/event/college-visit-to-mountwest-and-cabell-county-career-and-technical-school/
END:VEVENT
BEGIN:VEVENT
DTSTART;TZID=America/New_York:20221212T123000
DTEND;TZID=America/New_York:20221212T143000
DTSTAMP:20260420T232507
CREATED:20221130T195727Z
LAST-MODIFIED:20221130T195727Z
UID:3737-1670848200-1670855400@www.wvgearup.org
SUMMARY:Cabell County CTC Campus visit
DESCRIPTION:Spring Valley High School
URL:https://www.wvgearup.org/event/cabell-county-ctc-campus-visit/
END:VEVENT
END:VCALENDAR