BEGIN:VCALENDAR
VERSION:2.0
PRODID:-//West Virginia Gear Up - ECPv6.15.11//NONSGML v1.0//EN
CALSCALE:GREGORIAN
METHOD:PUBLISH
X-ORIGINAL-URL:https://www.wvgearup.org
X-WR-CALDESC:Events for West Virginia Gear Up
REFRESH-INTERVAL;VALUE=DURATION:PT1H
X-Robots-Tag:noindex
X-PUBLISHED-TTL:PT1H
BEGIN:VTIMEZONE
TZID:America/New_York
BEGIN:DAYLIGHT
TZOFFSETFROM:-0500
TZOFFSETTO:-0400
TZNAME:EDT
DTSTART:20210314T070000
END:DAYLIGHT
BEGIN:STANDARD
TZOFFSETFROM:-0400
TZOFFSETTO:-0500
TZNAME:EST
DTSTART:20211107T060000
END:STANDARD
BEGIN:DAYLIGHT
TZOFFSETFROM:-0500
TZOFFSETTO:-0400
TZNAME:EDT
DTSTART:20220313T070000
END:DAYLIGHT
BEGIN:STANDARD
TZOFFSETFROM:-0400
TZOFFSETTO:-0500
TZNAME:EST
DTSTART:20221106T060000
END:STANDARD
BEGIN:DAYLIGHT
TZOFFSETFROM:-0500
TZOFFSETTO:-0400
TZNAME:EDT
DTSTART:20230312T070000
END:DAYLIGHT
BEGIN:STANDARD
TZOFFSETFROM:-0400
TZOFFSETTO:-0500
TZNAME:EST
DTSTART:20231105T060000
END:STANDARD
END:VTIMEZONE
BEGIN:VEVENT
DTSTART;VALUE=DATE:20221117
DTEND;VALUE=DATE:20221118
DTSTAMP:20260421T004519
CREATED:20221104T125945Z
LAST-MODIFIED:20221104T125945Z
UID:3662-1668643200-1668729599@www.wvgearup.org
SUMMARY:College Visit
DESCRIPTION:Man Middle School
URL:https://www.wvgearup.org/event/college-visit-3/
END:VEVENT
BEGIN:VEVENT
DTSTART;TZID=America/New_York:20221117T081500
DTEND;TZID=America/New_York:20221117T103000
DTSTAMP:20260421T004519
CREATED:20221115T211809Z
LAST-MODIFIED:20221115T211809Z
UID:3704-1668672900-1668681000@www.wvgearup.org
SUMMARY:LCHS tour of CTE
DESCRIPTION:Guyan Valley Middle School
URL:https://www.wvgearup.org/event/lchs-tour-of-cte/
END:VEVENT
BEGIN:VEVENT
DTSTART;TZID=America/New_York:20221117T130000
DTEND;TZID=America/New_York:20221117T180000
DTSTAMP:20260421T004519
CREATED:20221115T211208Z
LAST-MODIFIED:20221115T211208Z
UID:3698-1668690000-1668708000@www.wvgearup.org
SUMMARY:1st FAFSA Workshop
DESCRIPTION:Wayne High School
URL:https://www.wvgearup.org/event/1st-fafsa-workshop/
END:VEVENT
END:VCALENDAR