BEGIN:VCALENDAR
VERSION:2.0
PRODID:-//West Virginia Gear Up - ECPv6.15.11//NONSGML v1.0//EN
CALSCALE:GREGORIAN
METHOD:PUBLISH
X-ORIGINAL-URL:https://www.wvgearup.org
X-WR-CALDESC:Events for West Virginia Gear Up
REFRESH-INTERVAL;VALUE=DURATION:PT1H
X-Robots-Tag:noindex
X-PUBLISHED-TTL:PT1H
BEGIN:VTIMEZONE
TZID:America/New_York
BEGIN:DAYLIGHT
TZOFFSETFROM:-0500
TZOFFSETTO:-0400
TZNAME:EDT
DTSTART:20210314T070000
END:DAYLIGHT
BEGIN:STANDARD
TZOFFSETFROM:-0400
TZOFFSETTO:-0500
TZNAME:EST
DTSTART:20211107T060000
END:STANDARD
BEGIN:DAYLIGHT
TZOFFSETFROM:-0500
TZOFFSETTO:-0400
TZNAME:EDT
DTSTART:20220313T070000
END:DAYLIGHT
BEGIN:STANDARD
TZOFFSETFROM:-0400
TZOFFSETTO:-0500
TZNAME:EST
DTSTART:20221106T060000
END:STANDARD
BEGIN:DAYLIGHT
TZOFFSETFROM:-0500
TZOFFSETTO:-0400
TZNAME:EDT
DTSTART:20230312T070000
END:DAYLIGHT
BEGIN:STANDARD
TZOFFSETFROM:-0400
TZOFFSETTO:-0500
TZNAME:EST
DTSTART:20231105T060000
END:STANDARD
END:VTIMEZONE
BEGIN:VEVENT
DTSTART;VALUE=DATE:20221107
DTEND;VALUE=DATE:20221108
DTSTAMP:20260421T022013
CREATED:20221104T125930Z
LAST-MODIFIED:20221104T125930Z
UID:3657-1667779200-1667865599@www.wvgearup.org
SUMMARY:Logan Middle WVSU Visit - 7th Graders
DESCRIPTION:Logan Middle School
URL:https://www.wvgearup.org/event/logan-middle-wvsu-visit-7th-graders/
END:VEVENT
BEGIN:VEVENT
DTSTART;VALUE=DATE:20221107
DTEND;VALUE=DATE:20221108
DTSTAMP:20260421T022013
CREATED:20221107T151711Z
LAST-MODIFIED:20221107T151711Z
UID:3681-1667779200-1667865599@www.wvgearup.org
SUMMARY:July ACT National Test Date
DESCRIPTION:
URL:https://www.wvgearup.org/event/july-act-national-test-date/
END:VEVENT
BEGIN:VEVENT
DTSTART;TZID=America/New_York:20221107T080000
DTEND;TZID=America/New_York:20221107T170000
DTSTAMP:20260421T022013
CREATED:20221107T144029Z
LAST-MODIFIED:20221107T144029Z
UID:3670-1667808000-1667840400@www.wvgearup.org
SUMMARY:October ACT National Test Date
DESCRIPTION:
URL:https://www.wvgearup.org/event/october-act-national-test-date/
END:VEVENT
END:VCALENDAR