BEGIN:VCALENDAR
VERSION:2.0
PRODID:-//West Virginia Gear Up - ECPv6.15.11//NONSGML v1.0//EN
CALSCALE:GREGORIAN
METHOD:PUBLISH
X-ORIGINAL-URL:https://www.wvgearup.org
X-WR-CALDESC:Events for West Virginia Gear Up
REFRESH-INTERVAL;VALUE=DURATION:PT1H
X-Robots-Tag:noindex
X-PUBLISHED-TTL:PT1H
BEGIN:VTIMEZONE
TZID:America/New_York
BEGIN:DAYLIGHT
TZOFFSETFROM:-0500
TZOFFSETTO:-0400
TZNAME:EDT
DTSTART:20210314T070000
END:DAYLIGHT
BEGIN:STANDARD
TZOFFSETFROM:-0400
TZOFFSETTO:-0500
TZNAME:EST
DTSTART:20211107T060000
END:STANDARD
BEGIN:DAYLIGHT
TZOFFSETFROM:-0500
TZOFFSETTO:-0400
TZNAME:EDT
DTSTART:20220313T070000
END:DAYLIGHT
BEGIN:STANDARD
TZOFFSETFROM:-0400
TZOFFSETTO:-0500
TZNAME:EST
DTSTART:20221106T060000
END:STANDARD
BEGIN:DAYLIGHT
TZOFFSETFROM:-0500
TZOFFSETTO:-0400
TZNAME:EDT
DTSTART:20230312T070000
END:DAYLIGHT
BEGIN:STANDARD
TZOFFSETFROM:-0400
TZOFFSETTO:-0500
TZNAME:EST
DTSTART:20231105T060000
END:STANDARD
END:VTIMEZONE
BEGIN:VEVENT
DTSTART;VALUE=DATE:20220816
DTEND;VALUE=DATE:20220817
DTSTAMP:20260421T062604
CREATED:20221104T125614Z
LAST-MODIFIED:20221104T125614Z
UID:3590-1660608000-1660694399@www.wvgearup.org
SUMMARY:Here's the Scoop on Gear Up!
DESCRIPTION:Madison Middle School
URL:https://www.wvgearup.org/event/heres-the-scoop-on-gear-up/
END:VEVENT
BEGIN:VEVENT
DTSTART;VALUE=DATE:20220816
DTEND;VALUE=DATE:20220817
DTSTAMP:20260421T062604
CREATED:20221104T125615Z
LAST-MODIFIED:20221104T125615Z
UID:3591-1660608000-1660694399@www.wvgearup.org
SUMMARY:Back to School presentation
DESCRIPTION:Guyan Valley Middle School
URL:https://www.wvgearup.org/event/back-to-school-presentation/
END:VEVENT
BEGIN:VEVENT
DTSTART;VALUE=DATE:20220816
DTEND;VALUE=DATE:20220817
DTSTAMP:20260421T062604
CREATED:20221104T125615Z
LAST-MODIFIED:20221104T125615Z
UID:3592-1660608000-1660694399@www.wvgearup.org
SUMMARY:7th Grade Orientation Night 2
DESCRIPTION:Point Pleasant Junior/Senior High School
URL:https://www.wvgearup.org/event/7th-grade-orientation-night-2/
END:VEVENT
END:VCALENDAR