BEGIN:VCALENDAR
VERSION:2.0
PRODID:-//West Virginia Gear Up - ECPv6.15.11//NONSGML v1.0//EN
CALSCALE:GREGORIAN
METHOD:PUBLISH
X-WR-CALNAME:West Virginia Gear Up
X-ORIGINAL-URL:https://www.wvgearup.org
X-WR-CALDESC:Events for West Virginia Gear Up
REFRESH-INTERVAL;VALUE=DURATION:PT1H
X-Robots-Tag:noindex
X-PUBLISHED-TTL:PT1H
BEGIN:VTIMEZONE
TZID:America/New_York
BEGIN:DAYLIGHT
TZOFFSETFROM:-0500
TZOFFSETTO:-0400
TZNAME:EDT
DTSTART:20210314T070000
END:DAYLIGHT
BEGIN:STANDARD
TZOFFSETFROM:-0400
TZOFFSETTO:-0500
TZNAME:EST
DTSTART:20211107T060000
END:STANDARD
BEGIN:DAYLIGHT
TZOFFSETFROM:-0500
TZOFFSETTO:-0400
TZNAME:EDT
DTSTART:20220313T070000
END:DAYLIGHT
BEGIN:STANDARD
TZOFFSETFROM:-0400
TZOFFSETTO:-0500
TZNAME:EST
DTSTART:20221106T060000
END:STANDARD
BEGIN:DAYLIGHT
TZOFFSETFROM:-0500
TZOFFSETTO:-0400
TZNAME:EDT
DTSTART:20230312T070000
END:DAYLIGHT
BEGIN:STANDARD
TZOFFSETFROM:-0400
TZOFFSETTO:-0500
TZNAME:EST
DTSTART:20231105T060000
END:STANDARD
END:VTIMEZONE
BEGIN:VEVENT
DTSTART;VALUE=DATE:20220414
DTEND;VALUE=DATE:20220415
DTSTAMP:20260421T122200
CREATED:20221104T125445Z
LAST-MODIFIED:20221104T125445Z
UID:3558-1649894400-1649980799@www.wvgearup.org
SUMMARY:Mountwest Community CTC Virtual Campus Tour
DESCRIPTION:Lenore PK-8
URL:https://www.wvgearup.org/event/mountwest-community-ctc-virtual-campus-tour/
END:VEVENT
BEGIN:VEVENT
DTSTART;VALUE=DATE:20220414
DTEND;VALUE=DATE:20220415
DTSTAMP:20260421T122200
CREATED:20221104T125445Z
LAST-MODIFIED:20221104T125445Z
UID:3559-1649894400-1649980799@www.wvgearup.org
SUMMARY:Virtual Campus Visit
DESCRIPTION:Wayne Middle School
URL:https://www.wvgearup.org/event/virtual-campus-visit-2/
END:VEVENT
BEGIN:VEVENT
DTSTART;VALUE=DATE:20220414
DTEND;VALUE=DATE:20220415
DTSTAMP:20260421T122200
CREATED:20221104T125445Z
LAST-MODIFIED:20221104T125445Z
UID:3560-1649894400-1649980799@www.wvgearup.org
SUMMARY:Virtual College Visit - Mountwest CTC
DESCRIPTION:Buffalo Middle School
URL:https://www.wvgearup.org/event/virtual-college-visit-mountwest-ctc/
END:VEVENT
END:VCALENDAR