BEGIN:VCALENDAR
VERSION:2.0
PRODID:-//West Virginia Gear Up - ECPv6.15.11//NONSGML v1.0//EN
CALSCALE:GREGORIAN
METHOD:PUBLISH
X-ORIGINAL-URL:https://www.wvgearup.org
X-WR-CALDESC:Events for West Virginia Gear Up
REFRESH-INTERVAL;VALUE=DURATION:PT1H
X-Robots-Tag:noindex
X-PUBLISHED-TTL:PT1H
BEGIN:VTIMEZONE
TZID:America/New_York
BEGIN:DAYLIGHT
TZOFFSETFROM:-0500
TZOFFSETTO:-0400
TZNAME:EDT
DTSTART:20210314T070000
END:DAYLIGHT
BEGIN:STANDARD
TZOFFSETFROM:-0400
TZOFFSETTO:-0500
TZNAME:EST
DTSTART:20211107T060000
END:STANDARD
BEGIN:DAYLIGHT
TZOFFSETFROM:-0500
TZOFFSETTO:-0400
TZNAME:EDT
DTSTART:20220313T070000
END:DAYLIGHT
BEGIN:STANDARD
TZOFFSETFROM:-0400
TZOFFSETTO:-0500
TZNAME:EST
DTSTART:20221106T060000
END:STANDARD
BEGIN:DAYLIGHT
TZOFFSETFROM:-0500
TZOFFSETTO:-0400
TZNAME:EDT
DTSTART:20230312T070000
END:DAYLIGHT
BEGIN:STANDARD
TZOFFSETFROM:-0400
TZOFFSETTO:-0500
TZNAME:EST
DTSTART:20231105T060000
END:STANDARD
END:VTIMEZONE
BEGIN:VEVENT
DTSTART;VALUE=DATE:20220408
DTEND;VALUE=DATE:20220409
DTSTAMP:20260421T122239
CREATED:20221104T125414Z
LAST-MODIFIED:20221104T125414Z
UID:3551-1649376000-1649462399@www.wvgearup.org
SUMMARY:College for WV
DESCRIPTION:Madison Middle School
URL:https://www.wvgearup.org/event/college-for-wv-5/
END:VEVENT
BEGIN:VEVENT
DTSTART;VALUE=DATE:20220408
DTEND;VALUE=DATE:20220409
DTSTAMP:20260421T122239
CREATED:20221104T125414Z
LAST-MODIFIED:20221104T125414Z
UID:3549-1649376000-1649462399@www.wvgearup.org
SUMMARY:Gear Up- Faculty Senate Informational Presentation
DESCRIPTION:Burch PK-8
URL:https://www.wvgearup.org/event/gear-up-faculty-senate-informational-presentation/
END:VEVENT
BEGIN:VEVENT
DTSTART;VALUE=DATE:20220408
DTEND;VALUE=DATE:20220409
DTSTAMP:20260421T122239
CREATED:20221104T125414Z
LAST-MODIFIED:20221104T125414Z
UID:3550-1649376000-1649462399@www.wvgearup.org
SUMMARY:Faculty Senate Presentation
DESCRIPTION:Lenore PK-8
URL:https://www.wvgearup.org/event/faculty-senate-presentation-9/
END:VEVENT
END:VCALENDAR