BEGIN:VCALENDAR
VERSION:2.0
PRODID:-//West Virginia Gear Up - ECPv6.15.11//NONSGML v1.0//EN
CALSCALE:GREGORIAN
METHOD:PUBLISH
X-WR-CALNAME:West Virginia Gear Up
X-ORIGINAL-URL:https://www.wvgearup.org
X-WR-CALDESC:Events for West Virginia Gear Up
REFRESH-INTERVAL;VALUE=DURATION:PT1H
X-Robots-Tag:noindex
X-PUBLISHED-TTL:PT1H
BEGIN:VTIMEZONE
TZID:America/New_York
BEGIN:DAYLIGHT
TZOFFSETFROM:-0500
TZOFFSETTO:-0400
TZNAME:EDT
DTSTART:20210314T070000
END:DAYLIGHT
BEGIN:STANDARD
TZOFFSETFROM:-0400
TZOFFSETTO:-0500
TZNAME:EST
DTSTART:20211107T060000
END:STANDARD
BEGIN:DAYLIGHT
TZOFFSETFROM:-0500
TZOFFSETTO:-0400
TZNAME:EDT
DTSTART:20220313T070000
END:DAYLIGHT
BEGIN:STANDARD
TZOFFSETFROM:-0400
TZOFFSETTO:-0500
TZNAME:EST
DTSTART:20221106T060000
END:STANDARD
BEGIN:DAYLIGHT
TZOFFSETFROM:-0500
TZOFFSETTO:-0400
TZNAME:EDT
DTSTART:20230312T070000
END:DAYLIGHT
BEGIN:STANDARD
TZOFFSETFROM:-0400
TZOFFSETTO:-0500
TZNAME:EST
DTSTART:20231105T060000
END:STANDARD
END:VTIMEZONE
BEGIN:VEVENT
DTSTART;VALUE=DATE:20220401
DTEND;VALUE=DATE:20220402
DTSTAMP:20260421T122201
CREATED:20221104T125344Z
LAST-MODIFIED:20221104T125344Z
UID:3540-1648771200-1648857599@www.wvgearup.org
SUMMARY:STEM Boot Camp
DESCRIPTION:Ceredo-Kenova Middle School
URL:https://www.wvgearup.org/event/stem-boot-camp-3/
END:VEVENT
BEGIN:VEVENT
DTSTART;VALUE=DATE:20220401
DTEND;VALUE=DATE:20220402
DTSTAMP:20260421T122201
CREATED:20221104T125345Z
LAST-MODIFIED:20221104T125345Z
UID:3541-1648771200-1648857599@www.wvgearup.org
SUMMARY:STEM Bootcamp
DESCRIPTION:Hannan Junior/Senior High School
URL:https://www.wvgearup.org/event/stem-bootcamp-2/
END:VEVENT
BEGIN:VEVENT
DTSTART;VALUE=DATE:20220401
DTEND;VALUE=DATE:20220402
DTSTAMP:20260421T122201
CREATED:20221104T125345Z
LAST-MODIFIED:20221104T125345Z
UID:3542-1648771200-1648857599@www.wvgearup.org
SUMMARY:Stem Bootcamp
DESCRIPTION:Fort Gay PK-8
URL:https://www.wvgearup.org/event/stem-bootcamp-3/
END:VEVENT
BEGIN:VEVENT
DTSTART;VALUE=DATE:20220401
DTEND;VALUE=DATE:20220402
DTSTAMP:20260421T122201
CREATED:20221104T125359Z
LAST-MODIFIED:20221104T125359Z
UID:3543-1648771200-1648857599@www.wvgearup.org
SUMMARY:Stem Bootcamp
DESCRIPTION:Madison Middle School
URL:https://www.wvgearup.org/event/stem-bootcamp-4/
END:VEVENT
END:VCALENDAR