BEGIN:VCALENDAR
VERSION:2.0
PRODID:-//West Virginia Gear Up - ECPv6.15.11//NONSGML v1.0//EN
CALSCALE:GREGORIAN
METHOD:PUBLISH
X-ORIGINAL-URL:https://www.wvgearup.org
X-WR-CALDESC:Events for West Virginia Gear Up
REFRESH-INTERVAL;VALUE=DURATION:PT1H
X-Robots-Tag:noindex
X-PUBLISHED-TTL:PT1H
BEGIN:VTIMEZONE
TZID:America/New_York
BEGIN:DAYLIGHT
TZOFFSETFROM:-0500
TZOFFSETTO:-0400
TZNAME:EDT
DTSTART:20210314T070000
END:DAYLIGHT
BEGIN:STANDARD
TZOFFSETFROM:-0400
TZOFFSETTO:-0500
TZNAME:EST
DTSTART:20211107T060000
END:STANDARD
BEGIN:DAYLIGHT
TZOFFSETFROM:-0500
TZOFFSETTO:-0400
TZNAME:EDT
DTSTART:20220313T070000
END:DAYLIGHT
BEGIN:STANDARD
TZOFFSETFROM:-0400
TZOFFSETTO:-0500
TZNAME:EST
DTSTART:20221106T060000
END:STANDARD
BEGIN:DAYLIGHT
TZOFFSETFROM:-0500
TZOFFSETTO:-0400
TZNAME:EDT
DTSTART:20230312T070000
END:DAYLIGHT
BEGIN:STANDARD
TZOFFSETFROM:-0400
TZOFFSETTO:-0500
TZNAME:EST
DTSTART:20231105T060000
END:STANDARD
END:VTIMEZONE
BEGIN:VEVENT
DTSTART;VALUE=DATE:20220218
DTEND;VALUE=DATE:20220219
DTSTAMP:20260421T145331
CREATED:20221104T125100Z
LAST-MODIFIED:20221104T125100Z
UID:3486-1645142400-1645228799@www.wvgearup.org
SUMMARY:Faulty Senate Gear Up presentation
DESCRIPTION:Fort Gay PK-8
URL:https://www.wvgearup.org/event/faulty-senate-gear-up-presentation/
END:VEVENT
BEGIN:VEVENT
DTSTART;VALUE=DATE:20220218
DTEND;VALUE=DATE:20220219
DTSTAMP:20260421T145331
CREATED:20221104T125100Z
LAST-MODIFIED:20221104T125100Z
UID:3487-1645142400-1645228799@www.wvgearup.org
SUMMARY:Faculty Senate Presentation
DESCRIPTION:Sherman High School
URL:https://www.wvgearup.org/event/faculty-senate-presentation-5/
END:VEVENT
BEGIN:VEVENT
DTSTART;VALUE=DATE:20220218
DTEND;VALUE=DATE:20220219
DTSTAMP:20260421T145331
CREATED:20221104T125114Z
LAST-MODIFIED:20221104T125114Z
UID:3490-1645142400-1645228799@www.wvgearup.org
SUMMARY:Faculty Senate Presentation
DESCRIPTION:Mingo Central Comprehensive High School
URL:https://www.wvgearup.org/event/faculty-senate-presentation-6/
END:VEVENT
BEGIN:VEVENT
DTSTART;VALUE=DATE:20220218
DTEND;VALUE=DATE:20220219
DTSTAMP:20260421T145331
CREATED:20221104T125114Z
LAST-MODIFIED:20221104T125114Z
UID:3488-1645142400-1645228799@www.wvgearup.org
SUMMARY:MPK8 Faculty Senate Gear Up overview
DESCRIPTION:Matewan PK-8
URL:https://www.wvgearup.org/event/mpk8-faculty-senate-gear-up-overview/
END:VEVENT
BEGIN:VEVENT
DTSTART;VALUE=DATE:20220218
DTEND;VALUE=DATE:20220219
DTSTAMP:20260421T145331
CREATED:20221104T125114Z
LAST-MODIFIED:20221104T125114Z
UID:3489-1645142400-1645228799@www.wvgearup.org
SUMMARY:Career Night
DESCRIPTION:Hannan Junior/Senior High School
URL:https://www.wvgearup.org/event/career-night/
END:VEVENT
END:VCALENDAR