BEGIN:VCALENDAR
VERSION:2.0
PRODID:-//West Virginia Gear Up - ECPv6.15.11//NONSGML v1.0//EN
CALSCALE:GREGORIAN
METHOD:PUBLISH
X-ORIGINAL-URL:https://www.wvgearup.org
X-WR-CALDESC:Events for West Virginia Gear Up
REFRESH-INTERVAL;VALUE=DURATION:PT1H
X-Robots-Tag:noindex
X-PUBLISHED-TTL:PT1H
BEGIN:VTIMEZONE
TZID:America/New_York
BEGIN:DAYLIGHT
TZOFFSETFROM:-0500
TZOFFSETTO:-0400
TZNAME:EDT
DTSTART:20210314T070000
END:DAYLIGHT
BEGIN:STANDARD
TZOFFSETFROM:-0400
TZOFFSETTO:-0500
TZNAME:EST
DTSTART:20211107T060000
END:STANDARD
BEGIN:DAYLIGHT
TZOFFSETFROM:-0500
TZOFFSETTO:-0400
TZNAME:EDT
DTSTART:20220313T070000
END:DAYLIGHT
BEGIN:STANDARD
TZOFFSETFROM:-0400
TZOFFSETTO:-0500
TZNAME:EST
DTSTART:20221106T060000
END:STANDARD
BEGIN:DAYLIGHT
TZOFFSETFROM:-0500
TZOFFSETTO:-0400
TZNAME:EDT
DTSTART:20230312T070000
END:DAYLIGHT
BEGIN:STANDARD
TZOFFSETFROM:-0400
TZOFFSETTO:-0500
TZNAME:EST
DTSTART:20231105T060000
END:STANDARD
END:VTIMEZONE
BEGIN:VEVENT
DTSTART;VALUE=DATE:20220216
DTEND;VALUE=DATE:20220217
DTSTAMP:20260421T145331
CREATED:20221104T124842Z
LAST-MODIFIED:20221104T124842Z
UID:3472-1644969600-1645055999@www.wvgearup.org
SUMMARY:GEAR UP - Parent Survey Follow - Up
DESCRIPTION:Lenore PK-8
URL:https://www.wvgearup.org/event/gear-up-parent-survey-follow-up/
END:VEVENT
BEGIN:VEVENT
DTSTART;VALUE=DATE:20220216
DTEND;VALUE=DATE:20220217
DTSTAMP:20260421T145331
CREATED:20221104T124857Z
LAST-MODIFIED:20221104T124857Z
UID:3474-1644969600-1645055999@www.wvgearup.org
SUMMARY:WVU Tech Virtual College Visit
DESCRIPTION:Spring Valley High School
URL:https://www.wvgearup.org/event/wvu-tech-virtual-college-visit/
END:VEVENT
BEGIN:VEVENT
DTSTART;VALUE=DATE:20220216
DTEND;VALUE=DATE:20220217
DTSTAMP:20260421T145331
CREATED:20221104T124857Z
LAST-MODIFIED:20221104T124857Z
UID:3475-1644969600-1645055999@www.wvgearup.org
SUMMARY:Concord Virtual College Visit
DESCRIPTION:Spring Valley High School
URL:https://www.wvgearup.org/event/concord-virtual-college-visit/
END:VEVENT
BEGIN:VEVENT
DTSTART;VALUE=DATE:20220216
DTEND;VALUE=DATE:20220217
DTSTAMP:20260421T145331
CREATED:20221104T124857Z
LAST-MODIFIED:20221104T124857Z
UID:3476-1644969600-1645055999@www.wvgearup.org
SUMMARY:Virtual Campus Visit
DESCRIPTION:Hannan Junior/Senior High School
URL:https://www.wvgearup.org/event/virtual-campus-visit/
END:VEVENT
BEGIN:VEVENT
DTSTART;VALUE=DATE:20220216
DTEND;VALUE=DATE:20220217
DTSTAMP:20260421T145331
CREATED:20221104T124857Z
LAST-MODIFIED:20221104T124857Z
UID:3477-1644969600-1645055999@www.wvgearup.org
SUMMARY:FAFSA workshop
DESCRIPTION:Tolsia High School
URL:https://www.wvgearup.org/event/fafsa-workshop/
END:VEVENT
BEGIN:VEVENT
DTSTART;VALUE=DATE:20220216
DTEND;VALUE=DATE:20220217
DTSTAMP:20260421T145331
CREATED:20221104T124857Z
LAST-MODIFIED:20221104T124857Z
UID:3473-1644969600-1645055999@www.wvgearup.org
SUMMARY:Concord Virtual Tour
DESCRIPTION:Sherman High School
URL:https://www.wvgearup.org/event/concord-virtual-tour/
END:VEVENT
END:VCALENDAR